BEGIN:VCALENDAR
VERSION:2.0
PRODID:-//Spectrum Town Center - ECPv6.15.20//NONSGML v1.0//EN
CALSCALE:GREGORIAN
METHOD:PUBLISH
X-WR-CALNAME:Spectrum Town Center
X-ORIGINAL-URL:https://spectrumtowncenter.com
X-WR-CALDESC:Events for Spectrum Town Center
REFRESH-INTERVAL;VALUE=DURATION:PT1H
X-Robots-Tag:noindex
X-PUBLISHED-TTL:PT1H
BEGIN:VTIMEZONE
TZID:UTC
BEGIN:STANDARD
TZOFFSETFROM:+0000
TZOFFSETTO:+0000
TZNAME:UTC
DTSTART:20180101T000000
END:STANDARD
END:VTIMEZONE
BEGIN:VEVENT
DTSTART;TZID=UTC:20190606T173000
DTEND;TZID=UTC:20190606T210000
DTSTAMP:20260423T081609
CREATED:20190618T202244Z
LAST-MODIFIED:20190618T202244Z
UID:7277-1559842200-1559854800@spectrumtowncenter.com
SUMMARY:Taco Thursday
DESCRIPTION:Taco Thursday!\nEnjoy three tacos for $10 at Barking Mad\n*Dine-in and Kitchen only during dinner service 5:30PM-9PM
URL:https://spectrumtowncenter.com/event/taco-thursday/2019-06-06/
LOCATION:Barking Mad\, 239 Spectrum Ave.\, Gaithersburg\, MD\, 20879\, United States
END:VEVENT
END:VCALENDAR