BEGIN:VCALENDAR
VERSION:2.0
PRODID:-//Spectrum Town Center - ECPv6.15.20//NONSGML v1.0//EN
CALSCALE:GREGORIAN
METHOD:PUBLISH
X-WR-CALNAME:Spectrum Town Center
X-ORIGINAL-URL:https://spectrumtowncenter.com
X-WR-CALDESC:Events for Spectrum Town Center
REFRESH-INTERVAL;VALUE=DURATION:PT1H
X-Robots-Tag:noindex
X-PUBLISHED-TTL:PT1H
BEGIN:VTIMEZONE
TZID:UTC
BEGIN:STANDARD
TZOFFSETFROM:+0000
TZOFFSETTO:+0000
TZNAME:UTC
DTSTART:20180101T000000
END:STANDARD
END:VTIMEZONE
BEGIN:VEVENT
DTSTART;TZID=UTC:20190202T100000
DTEND;TZID=UTC:20190202T110000
DTSTAMP:20260419T103454
CREATED:20190206T012115Z
LAST-MODIFIED:20190228T203414Z
UID:6873-1549101600-1549105200@spectrumtowncenter.com
SUMMARY:Yin Yoga
DESCRIPTION:Injury prevention\, joint health\, and restorative energy. Long hold poses varying from 3 to 10 minutes. Don’t forget to bring your mat! Beginners are welcome! \n*Residents Only
URL:https://spectrumtowncenter.com/event/yin-yoga-7/2019-02-02/
LOCATION:Majestic Yoga Studio\, 116 Paramount Park Dr.\, Gaithersburg\, MD\, 20879\, United States
GEO:39.1590892;-77.2213387
X-APPLE-STRUCTURED-LOCATION;VALUE=URI;X-ADDRESS=Majestic Yoga Studio 116 Paramount Park Dr. Gaithersburg MD 20879 United States;X-APPLE-RADIUS=500;X-TITLE=116 Paramount Park Dr.:geo:-77.2213387,39.1590892
END:VEVENT
END:VCALENDAR