BEGIN:VCALENDAR
VERSION:2.0
PRODID:-//Spectrum Town Center - ECPv6.15.20//NONSGML v1.0//EN
CALSCALE:GREGORIAN
METHOD:PUBLISH
X-WR-CALNAME:Spectrum Town Center
X-ORIGINAL-URL:https://spectrumtowncenter.com
X-WR-CALDESC:Events for Spectrum Town Center
REFRESH-INTERVAL;VALUE=DURATION:PT1H
X-Robots-Tag:noindex
X-PUBLISHED-TTL:PT1H
BEGIN:VTIMEZONE
TZID:UTC
BEGIN:STANDARD
TZOFFSETFROM:+0000
TZOFFSETTO:+0000
TZNAME:UTC
DTSTART:20180101T000000
END:STANDARD
END:VTIMEZONE
BEGIN:VEVENT
DTSTART;TZID=UTC:20190907T140000
DTEND;TZID=UTC:20190907T140000
DTSTAMP:20260424T112130
CREATED:20190904T210004Z
LAST-MODIFIED:20190904T210004Z
UID:7328-1567864800-1567864800@spectrumtowncenter.com
SUMMARY:Zumba
DESCRIPTION:Roderick + friends will be hosting a free Zumba Fitness Dance Class for all Spectrum Residents and their guests. \n*We recommend proper athletic wear\, a towel and a water bottle for the class. We recommend that you consult with your physician before participating in any exercise program.
URL:https://spectrumtowncenter.com/event/zumba-5/
LOCATION:Performers Park\, 239 Spectrum Ave.\, Gaithersburg\, Maryland\, 20879
GEO:39.1601137;-77.2224343
X-APPLE-STRUCTURED-LOCATION;VALUE=URI;X-ADDRESS=Performers Park 239 Spectrum Ave. Gaithersburg Maryland 20879;X-APPLE-RADIUS=500;X-TITLE=239 Spectrum Ave.:geo:-77.2224343,39.1601137
END:VEVENT
BEGIN:VEVENT
DTSTART;TZID=UTC:20190606T173000
DTEND;TZID=UTC:20190606T210000
DTSTAMP:20260424T112130
CREATED:20190618T202244Z
LAST-MODIFIED:20190618T202244Z
UID:7277-1559842200-1559854800@spectrumtowncenter.com
SUMMARY:Taco Thursday
DESCRIPTION:Taco Thursday!\nEnjoy three tacos for $10 at Barking Mad\n*Dine-in and Kitchen only during dinner service 5:30PM-9PM
URL:https://spectrumtowncenter.com/event/taco-thursday/2019-06-06/
LOCATION:Barking Mad\, 239 Spectrum Ave.\, Gaithersburg\, MD\, 20879\, United States
END:VEVENT
BEGIN:VEVENT
DTSTART;TZID=UTC:20190527T090000
DTEND;TZID=UTC:20190527T144500
DTSTAMP:20260424T112130
CREATED:20190513T230914Z
LAST-MODIFIED:20190520T190224Z
UID:7236-1558947600-1558968300@spectrumtowncenter.com
SUMMARY:Memorial Day Brunch
DESCRIPTION:Come to Barking Mad for Brunch on Memorial Day!
URL:https://spectrumtowncenter.com/event/memorial-day-brunch/
LOCATION:Barking Mad\, 239 Spectrum Ave.\, Gaithersburg\, MD\, 20879\, United States
END:VEVENT
BEGIN:VEVENT
DTSTART;TZID=UTC:20190525T000000
DTEND;TZID=UTC:20190525T000000
DTSTAMP:20260424T112130
CREATED:20190513T225611Z
LAST-MODIFIED:20190513T225611Z
UID:7231-1558742400-1558742400@spectrumtowncenter.com
SUMMARY:First Day of Pool Opening
DESCRIPTION:Have fun in the sun!\nGet your swim on because both Majestic and Paramount’s pools will be open!
URL:https://spectrumtowncenter.com/event/first-day-of-pool-opening/
LOCATION:Spectrum\, 120 Paramount Park Dr.\, Gaithersburg\, MD\, 20879\, United States
END:VEVENT
BEGIN:VEVENT
DTSTART;TZID=UTC:20190522T073000
DTEND;TZID=UTC:20190522T090000
DTSTAMP:20260424T112130
CREATED:20190513T230307Z
LAST-MODIFIED:20190513T234819Z
UID:7233-1558510200-1558515600@spectrumtowncenter.com
SUMMARY:Breakfast To-Go
DESCRIPTION:Treat yourself to a breakfast to-go at the Paramount West Lobby hosted by Spectrum \n*Residents only
URL:https://spectrumtowncenter.com/event/breakfast-to-go/
LOCATION:Paramount West Lobby\, 231 Spectrum Ave\, Gaithersburg\, MD\, 20879\, United States
END:VEVENT
BEGIN:VEVENT
DTSTART;TZID=UTC:20190512T090000
DTEND;TZID=UTC:20190512T144500
DTSTAMP:20260424T112130
CREATED:20190507T005329Z
LAST-MODIFIED:20190507T194402Z
UID:7224-1557651600-1557672300@spectrumtowncenter.com
SUMMARY:Mother's Day Brunch
DESCRIPTION:Happy Mother’s Day!\nCelebrate this special day with Barking Mad for Brunch from 9AM-2:45PM. \nReservations can be made at barkingmadcafe.com or opentable.com
URL:https://spectrumtowncenter.com/event/mothers-day-brunch/
LOCATION:Barking Mad\, 239 Spectrum Ave.\, Gaithersburg\, MD\, 20879\, United States
END:VEVENT
BEGIN:VEVENT
DTSTART;TZID=UTC:20190504T170000
DTEND;TZID=UTC:20190504T210000
DTSTAMP:20260424T112130
CREATED:20190503T232045Z
LAST-MODIFIED:20190503T232148Z
UID:7219-1556989200-1557003600@spectrumtowncenter.com
SUMMARY:Cinco de Mayo pt. 2
DESCRIPTION:It’s Cinco de Mayo Somewhere!\nCome party with Barking Mad again starting at 5PM! There will be drinks and dinner specials. Live music by Ocho de Bastos will start at 6PM on the Patio. \nPitchers:\n$14 Corona | $35 Margarita | $35 Sangria \nIn case you haven’t heard\, Barking Mad will also have a Frozen Margarita Machine ALL NIGHT LONG!!
URL:https://spectrumtowncenter.com/event/cinco-de-mayo-pt-2/
LOCATION:Barking Mad\, 239 Spectrum Ave.\, Gaithersburg\, MD\, 20879\, United States
END:VEVENT
BEGIN:VEVENT
DTSTART;TZID=UTC:20190503T170000
DTEND;TZID=UTC:20190503T210000
DTSTAMP:20260424T112130
CREATED:20190503T231801Z
LAST-MODIFIED:20190503T232127Z
UID:7217-1556902800-1556917200@spectrumtowncenter.com
SUMMARY:Cinco de Mayo
DESCRIPTION:It’s Cinco de Mayo Somewhere!\nCome party with Barking Mad starting at 5PM! There will be drinks and dinner specials. \nPitchers:\n$14 Corona | $35 Margarita | $35 Sangria \nIn case you haven’t heard\, Barking Mad will also have a Frozen Margarita Machine ALL NIGHT LONG!!
URL:https://spectrumtowncenter.com/event/cinco-de-mayo/
LOCATION:Barking Mad\, 239 Spectrum Ave.\, Gaithersburg\, MD\, 20879\, United States
END:VEVENT
BEGIN:VEVENT
DTSTART;TZID=UTC:20190421T090000
DTEND;TZID=UTC:20190421T150000
DTSTAMP:20260424T112130
CREATED:20190416T191239Z
LAST-MODIFIED:20190416T191239Z
UID:7168-1555837200-1555858800@spectrumtowncenter.com
SUMMARY:Easter Brunch
DESCRIPTION:Join us for Easter Brunch on April 21st from 9AM-3PM. There will be surprise goodies for kids! \nReservations can be made at barkingmadcafe.com or opentable.com
URL:https://spectrumtowncenter.com/event/easter-brunch/
LOCATION:Barking Mad\, 239 Spectrum Ave.\, Gaithersburg\, MD\, 20879\, United States
END:VEVENT
BEGIN:VEVENT
DTSTART;TZID=UTC:20190412T073000
DTEND;TZID=UTC:20190412T083000
DTSTAMP:20260424T112130
CREATED:20190416T190104Z
LAST-MODIFIED:20190416T190104Z
UID:7135-1555054200-1555057800@spectrumtowncenter.com
SUMMARY:Coffee + Conversation w/ Sidney Katz
DESCRIPTION:Meet Councilmember Sidney Katz at Barking Mad. There will be free drip coffee and puff pastry!
URL:https://spectrumtowncenter.com/event/coffee-conversation-w-sidney-katz/
LOCATION:Barking Mad\, 239 Spectrum Ave.\, Gaithersburg\, MD\, 20879\, United States
END:VEVENT
BEGIN:VEVENT
DTSTART;TZID=UTC:20190314T190000
DTEND;TZID=UTC:20190314T210000
DTSTAMP:20260424T112130
CREATED:20190306T215917Z
LAST-MODIFIED:20190311T183342Z
UID:7093-1552590000-1552597200@spectrumtowncenter.com
SUMMARY:Resident Trivia Night
DESCRIPTION:Let’s Party @ Barking Mad Bar!\nBarking Mad will be offering HALF OFF artisanal pizzas\, drink specials\, and prizes! Make sure to bring your FOB key to access these specials. \n*Dine-In Only*
URL:https://spectrumtowncenter.com/event/resident-trivia-night/
LOCATION:Barking Mad\, 239 Spectrum Ave.\, Gaithersburg\, MD\, 20879\, United States
END:VEVENT
BEGIN:VEVENT
DTSTART;TZID=UTC:20190312T073000
DTEND;TZID=UTC:20190312T090000
DTSTAMP:20260424T112130
CREATED:20190228T202947Z
LAST-MODIFIED:20190228T202947Z
UID:7032-1552375800-1552381200@spectrumtowncenter.com
SUMMARY:Coffee + Pastries
DESCRIPTION:Get your day started with coffee and pastries at the Majestic Lobby provided by Barking Mad. See you there! \n*Residents only
URL:https://spectrumtowncenter.com/event/coffee-pastries/
LOCATION:Majestic Lobby\, 120 Paramount Park Drive\, Gaithersburg\, MD\, 20879\, United States
END:VEVENT
BEGIN:VEVENT
DTSTART;TZID=UTC:20190306T173000
DTEND;TZID=UTC:20190306T210000
DTSTAMP:20260424T112130
CREATED:20190306T214646Z
LAST-MODIFIED:20190618T201617Z
UID:7085-1551893400-1551906000@spectrumtowncenter.com
SUMMARY:Happy Hour + Wine Special
DESCRIPTION:Happy Hour + 1/2 off Bottle of Wine\nJoin Barking Mad for happy hour ALL NIGHT from 5PM-9PM!\n*Bar only \nWant to wine and dine? Head over to Barking Mad for HALF OFF bottle of wine!\n*Dine-in and Kitchen only during dinner service 5:30PM-9PM
URL:https://spectrumtowncenter.com/event/wine-special/2019-03-06/
LOCATION:Barking Mad\, 239 Spectrum Ave.\, Gaithersburg\, MD\, 20879\, United States
END:VEVENT
BEGIN:VEVENT
DTSTART;TZID=UTC:20190305T170000
DTEND;TZID=UTC:20190305T213000
DTSTAMP:20260424T112130
CREATED:20190306T213723Z
LAST-MODIFIED:20190618T201913Z
UID:7080-1551805200-1551821400@spectrumtowncenter.com
SUMMARY:Happy Hour + Pizza Special
DESCRIPTION:Happy Hour + 1/2 off Artisan Pizzas\nFrom 5PM-9PM\, join Barking Mad for happy hour ALL NIGHT!\n*Bar only\n \nBut wait\, there’s more! Barking Mad will have HALF OFF Artisan Pizzas!\n*Dine-in and Kitchen only during dinner service 5:30PM-9PM
URL:https://spectrumtowncenter.com/event/pizza-special/2019-03-05/
LOCATION:Barking Mad\, 239 Spectrum Ave.\, Gaithersburg\, MD\, 20879\, United States
END:VEVENT
BEGIN:VEVENT
DTSTART;TZID=UTC:20190305T160000
DTEND;TZID=UTC:20190305T200000
DTSTAMP:20260424T112130
CREATED:20190228T201438Z
LAST-MODIFIED:20190228T202328Z
UID:7028-1551801600-1551816000@spectrumtowncenter.com
SUMMARY:Say Cheese! Food Truck
DESCRIPTION:Don’t miss Say Cheese! Food Truck! They will parked in the Paramount East’s retail lot. Bring your friends\, family\, and appetite! \nCheck out their menu here
URL:https://spectrumtowncenter.com/event/say-cheese-food-truck/
LOCATION:Paramount East Parking Lot\, 230 Spectrum Avenue\, Gaithersburg\, MD\, 20879
GEO:39.1605952;-77.2223224
X-APPLE-STRUCTURED-LOCATION;VALUE=URI;X-ADDRESS=Paramount East Parking Lot 230 Spectrum Avenue Gaithersburg MD 20879;X-APPLE-RADIUS=500;X-TITLE=230 Spectrum Avenue:geo:-77.2223224,39.1605952
END:VEVENT
BEGIN:VEVENT
DTSTART;TZID=UTC:20190214T173000
DTEND;TZID=UTC:20190214T210000
DTSTAMP:20260424T112130
CREATED:20190206T015219Z
LAST-MODIFIED:20190206T015219Z
UID:6948-1550165400-1550178000@spectrumtowncenter.com
SUMMARY:Valentine's Day Dinner
DESCRIPTION:Join us at Barking Mad this Valentine’s Day! We will have a fixed menu prepared for you and your loved one(s).
URL:https://spectrumtowncenter.com/event/valentines-day-dinner/
LOCATION:Barking Mad\, 239 Spectrum Ave.\, Gaithersburg\, MD\, 20879\, United States
END:VEVENT
BEGIN:VEVENT
DTSTART;TZID=UTC:20190211T173000
DTEND;TZID=UTC:20190211T190000
DTSTAMP:20260424T112130
CREATED:20190206T014857Z
LAST-MODIFIED:20190206T014857Z
UID:6946-1549906200-1549911600@spectrumtowncenter.com
SUMMARY:Cookie Decorating
DESCRIPTION:Show us some love while we decorate treats and sip on wine Valentine’s Day style! No sweet tooth? Still stop by for a chance to win an Amazon gift card! \n\n*Residents Only
URL:https://spectrumtowncenter.com/event/cookie-decorating/
LOCATION:Paramount West Clubroom\, 231 Spectrum Ave.\, Gaithersburg\, Maryland\, 20879
END:VEVENT
BEGIN:VEVENT
DTSTART;TZID=UTC:20190207T173000
DTEND;TZID=UTC:20190207T210000
DTSTAMP:20260424T112130
CREATED:20190206T012913Z
LAST-MODIFIED:20190503T230231Z
UID:6893-1549560600-1549573200@spectrumtowncenter.com
SUMMARY:Dinner Special
DESCRIPTION:Ready for Date Night? Night Out w/ Friends?\nPurchase one Entreé and enjoy 2nd Entreé HALF OFF at Barking Mad\n*Discount valid one per person\, per visit. Dine-in only during dinner service 5:30PM-9PM
URL:https://spectrumtowncenter.com/event/dinner-special-9/2019-02-07/
LOCATION:Barking Mad\, 239 Spectrum Ave.\, Gaithersburg\, MD\, 20879\, United States
END:VEVENT
BEGIN:VEVENT
DTSTART;TZID=UTC:20190206T184500
DTEND;TZID=UTC:20190206T194500
DTSTAMP:20260424T112130
CREATED:20190206T012319Z
LAST-MODIFIED:20200304T022455Z
UID:6878-1549478700-1549482300@spectrumtowncenter.com
SUMMARY:Alignment Based Yoga
DESCRIPTION:Focus on alignment\, precision\, and strength\, often using props. Props will be provided by Spectrum. Don’t forget to bring your mat! Beginners are welcome! \n*Residents Only
URL:https://spectrumtowncenter.com/event/alignment-based-yoga-6/2019-02-06/
LOCATION:Majestic Yoga Studio\, 116 Paramount Park Dr.\, Gaithersburg\, MD\, 20879\, United States
GEO:39.1590892;-77.2213387
X-APPLE-STRUCTURED-LOCATION;VALUE=URI;X-ADDRESS=Majestic Yoga Studio 116 Paramount Park Dr. Gaithersburg MD 20879 United States;X-APPLE-RADIUS=500;X-TITLE=116 Paramount Park Dr.:geo:-77.2213387,39.1590892
END:VEVENT
BEGIN:VEVENT
DTSTART;TZID=UTC:20190206T170000
DTEND;TZID=UTC:20190206T210000
DTSTAMP:20260424T112130
CREATED:20190206T013128Z
LAST-MODIFIED:20190306T200623Z
UID:6898-1549472400-1549486800@spectrumtowncenter.com
SUMMARY:Happy Hour
DESCRIPTION:Happy Hour All Night at Barking Mad Café! \nRestaurant (5:30PM-9PM)\nBar Area (5PM-9PM)
URL:https://spectrumtowncenter.com/event/happy-hour-10/2019-02-06/
LOCATION:Barking Mad\, 239 Spectrum Ave.\, Gaithersburg\, MD\, 20879\, United States
END:VEVENT
BEGIN:VEVENT
DTSTART;TZID=UTC:20190205T170000
DTEND;TZID=UTC:20190205T210000
DTSTAMP:20260424T112130
CREATED:20190206T012652Z
LAST-MODIFIED:20190206T012652Z
UID:6888-1549386000-1549400400@spectrumtowncenter.com
SUMMARY:Happy Hour
DESCRIPTION:Happy Hour All Night at Barking Mad Café! \nRestaurant (5:30PM-9PM)\nBar Area (5PM-9PM)
URL:https://spectrumtowncenter.com/event/happy-hour-9/2019-02-05/
LOCATION:Barking Mad\, 239 Spectrum Ave.\, Gaithersburg\, MD\, 20879\, United States
END:VEVENT
BEGIN:VEVENT
DTSTART;TZID=UTC:20190205T170000
DTEND;TZID=UTC:20190205T183000
DTSTAMP:20260424T112130
CREATED:20190206T013806Z
LAST-MODIFIED:20190306T200536Z
UID:6903-1549386000-1549391400@spectrumtowncenter.com
SUMMARY:Early Bird
DESCRIPTION:Join us for Early Bird Menu ($20 plus tax and gratuity) \n*Restaurant and Bar only \n\n\n\n 
URL:https://spectrumtowncenter.com/event/early-bird/2019-02-05/
LOCATION:Barking Mad\, 239 Spectrum Ave.\, Gaithersburg\, MD\, 20879\, United States
END:VEVENT
BEGIN:VEVENT
DTSTART;TZID=UTC:20190204T184500
DTEND;TZID=UTC:20190204T194500
DTSTAMP:20260424T112130
CREATED:20190206T012425Z
LAST-MODIFIED:20200304T022537Z
UID:6883-1549305900-1549309500@spectrumtowncenter.com
SUMMARY:Yoga Conditioning
DESCRIPTION:A blend of traditional yoga and dynamic strength training. Don’t forget to bring your mat! Beginners are welcome! \n*Residents Only
URL:https://spectrumtowncenter.com/event/yoga-conditioning-6/2019-02-04/
LOCATION:Majestic Yoga Studio\, 116 Paramount Park Dr.\, Gaithersburg\, MD\, 20879\, United States
GEO:39.1590892;-77.2213387
X-APPLE-STRUCTURED-LOCATION;VALUE=URI;X-ADDRESS=Majestic Yoga Studio 116 Paramount Park Dr. Gaithersburg MD 20879 United States;X-APPLE-RADIUS=500;X-TITLE=116 Paramount Park Dr.:geo:-77.2213387,39.1590892
END:VEVENT
BEGIN:VEVENT
DTSTART;TZID=UTC:20190202T180000
DTEND;TZID=UTC:20190202T210000
DTSTAMP:20260424T112130
CREATED:20190206T015330Z
LAST-MODIFIED:20190228T200044Z
UID:6950-1549130400-1549141200@spectrumtowncenter.com
SUMMARY:Winter Concert Series
DESCRIPTION:Dine-in at Barking Mad Café and enjoy some live music!
URL:https://spectrumtowncenter.com/event/winter-concert-series-9/2019-02-02/
LOCATION:Barking Mad\, 239 Spectrum Ave.\, Gaithersburg\, MD\, 20879\, United States
END:VEVENT
BEGIN:VEVENT
DTSTART;TZID=UTC:20190202T100000
DTEND;TZID=UTC:20190202T110000
DTSTAMP:20260424T112130
CREATED:20190206T012115Z
LAST-MODIFIED:20190228T203414Z
UID:6873-1549101600-1549105200@spectrumtowncenter.com
SUMMARY:Yin Yoga
DESCRIPTION:Injury prevention\, joint health\, and restorative energy. Long hold poses varying from 3 to 10 minutes. Don’t forget to bring your mat! Beginners are welcome! \n*Residents Only
URL:https://spectrumtowncenter.com/event/yin-yoga-7/2019-02-02/
LOCATION:Majestic Yoga Studio\, 116 Paramount Park Dr.\, Gaithersburg\, MD\, 20879\, United States
GEO:39.1590892;-77.2213387
X-APPLE-STRUCTURED-LOCATION;VALUE=URI;X-ADDRESS=Majestic Yoga Studio 116 Paramount Park Dr. Gaithersburg MD 20879 United States;X-APPLE-RADIUS=500;X-TITLE=116 Paramount Park Dr.:geo:-77.2213387,39.1590892
END:VEVENT
BEGIN:VEVENT
DTSTART;TZID=UTC:20190131T173000
DTEND;TZID=UTC:20190131T210000
DTSTAMP:20260424T112130
CREATED:20190108T003920Z
LAST-MODIFIED:20190108T003920Z
UID:6843-1548955800-1548968400@spectrumtowncenter.com
SUMMARY:Dinner Special
DESCRIPTION:Ready for Date Night? Night Out w/ Friends?\nPurchase one Entreé and enjoy 2nd Entreé HALF OFF at Barking Mad Café\n*Discount valid one per person\, per visit. Dine-in only during dinner service 5:30PM-9PM
URL:https://spectrumtowncenter.com/event/dinner-special-8/
LOCATION:Barking Mad\, 239 Spectrum Ave.\, Gaithersburg\, MD\, 20879\, United States
END:VEVENT
BEGIN:VEVENT
DTSTART;TZID=UTC:20190130T170000
DTEND;TZID=UTC:20190130T210000
DTSTAMP:20260424T112130
CREATED:20190108T003559Z
LAST-MODIFIED:20190108T003559Z
UID:6835-1548867600-1548882000@spectrumtowncenter.com
SUMMARY:Happy Hour
DESCRIPTION:Happy Hour All Night at Barking Mad Café! \nRestaurant (5:30PM-9PM)\nBar Area (5PM-9PM)
URL:https://spectrumtowncenter.com/event/happy-hour-8/
LOCATION:Barking Mad\, 239 Spectrum Ave.\, Gaithersburg\, MD\, 20879\, United States
END:VEVENT
BEGIN:VEVENT
DTSTART;TZID=UTC:20190129T170000
DTEND;TZID=UTC:20190129T210000
DTSTAMP:20260424T112130
CREATED:20190108T003515Z
LAST-MODIFIED:20190108T003515Z
UID:6833-1548781200-1548795600@spectrumtowncenter.com
SUMMARY:Happy Hour
DESCRIPTION:Happy Hour All Night at Barking Mad Café! \nRestaurant (5:30PM-9PM)\nBar Area (5PM-9PM)
URL:https://spectrumtowncenter.com/event/happy-hour-7/
LOCATION:Barking Mad\, 239 Spectrum Ave.\, Gaithersburg\, MD\, 20879\, United States
END:VEVENT
BEGIN:VEVENT
DTSTART;TZID=UTC:20190126T180000
DTEND;TZID=UTC:20190126T210000
DTSTAMP:20260424T112130
CREATED:20190108T004650Z
LAST-MODIFIED:20190108T004650Z
UID:6847-1548525600-1548536400@spectrumtowncenter.com
SUMMARY:Winter Concert Series
DESCRIPTION:Dine-in at Barking Mad Café and enjoy some live music!
URL:https://spectrumtowncenter.com/event/winter-concert-series-6/
LOCATION:Barking Mad\, 239 Spectrum Ave.\, Gaithersburg\, MD\, 20879\, United States
END:VEVENT
BEGIN:VEVENT
DTSTART;TZID=UTC:20190125T190000
DTEND;TZID=UTC:20190125T220000
DTSTAMP:20260424T112130
CREATED:20190108T010309Z
LAST-MODIFIED:20190108T010309Z
UID:6849-1548442800-1548453600@spectrumtowncenter.com
SUMMARY:Game Night
DESCRIPTION:Join your neighbors for night of fun! We will be playing board games\, pool\, and card games all night! Not a big gamer? Still stop by! We will be serving pizza\, beer\, and wine. \nWe hope to see you there! \n**Residents only
URL:https://spectrumtowncenter.com/event/game-night/
LOCATION:Majestic Club Room\, 116 Paramount Park Dr.\, Gaithersburg\, MD\, 20879\, United States
GEO:39.1595421;-77.2219009
X-APPLE-STRUCTURED-LOCATION;VALUE=URI;X-ADDRESS=Majestic Club Room 116 Paramount Park Dr. Gaithersburg MD 20879 United States;X-APPLE-RADIUS=500;X-TITLE=116 Paramount Park Dr.:geo:-77.2219009,39.1595421
END:VEVENT
END:VCALENDAR