BEGIN:VCALENDAR
VERSION:2.0
PRODID:-//Spectrum Town Center - ECPv6.15.20//NONSGML v1.0//EN
CALSCALE:GREGORIAN
METHOD:PUBLISH
X-WR-CALNAME:Spectrum Town Center
X-ORIGINAL-URL:https://spectrumtowncenter.com
X-WR-CALDESC:Events for Spectrum Town Center
REFRESH-INTERVAL;VALUE=DURATION:PT1H
X-Robots-Tag:noindex
X-PUBLISHED-TTL:PT1H
BEGIN:VTIMEZONE
TZID:UTC
BEGIN:STANDARD
TZOFFSETFROM:+0000
TZOFFSETTO:+0000
TZNAME:UTC
DTSTART:20170101T000000
END:STANDARD
END:VTIMEZONE
BEGIN:VEVENT
DTSTART;TZID=UTC:20190124T173000
DTEND;TZID=UTC:20190124T210000
DTSTAMP:20260424T151301
CREATED:20190108T003851Z
LAST-MODIFIED:20190108T003851Z
UID:6841-1548351000-1548363600@spectrumtowncenter.com
SUMMARY:Dinner Special
DESCRIPTION:Ready for Date Night? Night Out w/ Friends?\nPurchase one Entreé and enjoy 2nd Entreé HALF OFF at Barking Mad Café\n*Discount valid one per person\, per visit. Dine-in only during dinner service 5:30PM-9PM
URL:https://spectrumtowncenter.com/event/dinner-special-7/
LOCATION:Barking Mad\, 239 Spectrum Ave.\, Gaithersburg\, MD\, 20879\, United States
END:VEVENT
BEGIN:VEVENT
DTSTART;TZID=UTC:20190123T170000
DTEND;TZID=UTC:20190123T210000
DTSTAMP:20260424T151301
CREATED:20190108T003443Z
LAST-MODIFIED:20190108T003443Z
UID:6831-1548262800-1548277200@spectrumtowncenter.com
SUMMARY:Happy Hour
DESCRIPTION:Happy Hour All Night at Barking Mad Café! \nRestaurant (5:30PM-9PM)\nBar Area (5PM-9PM)
URL:https://spectrumtowncenter.com/event/happy-hour-6/
LOCATION:Barking Mad\, 239 Spectrum Ave.\, Gaithersburg\, MD\, 20879\, United States
END:VEVENT
BEGIN:VEVENT
DTSTART;TZID=UTC:20190122T170000
DTEND;TZID=UTC:20190122T210000
DTSTAMP:20260424T151301
CREATED:20190108T003402Z
LAST-MODIFIED:20190108T003402Z
UID:6829-1548176400-1548190800@spectrumtowncenter.com
SUMMARY:Happy Hour
DESCRIPTION:Happy Hour All Night at Barking Mad Café! \nRestaurant (5:30PM-9PM)\nBar Area (5PM-9PM)
URL:https://spectrumtowncenter.com/event/happy-hour-5/
LOCATION:Barking Mad\, 239 Spectrum Ave.\, Gaithersburg\, MD\, 20879\, United States
END:VEVENT
BEGIN:VEVENT
DTSTART;TZID=UTC:20190119T180000
DTEND;TZID=UTC:20190119T210000
DTSTAMP:20260424T151301
CREATED:20190108T004615Z
LAST-MODIFIED:20190108T004615Z
UID:6845-1547920800-1547931600@spectrumtowncenter.com
SUMMARY:Winter Concert Series
DESCRIPTION:Dine-in at Barking Mad Café and enjoy some live music!
URL:https://spectrumtowncenter.com/event/winter-concert-series-5/
LOCATION:Barking Mad\, 239 Spectrum Ave.\, Gaithersburg\, MD\, 20879\, United States
END:VEVENT
BEGIN:VEVENT
DTSTART;TZID=UTC:20190117T173000
DTEND;TZID=UTC:20190117T210000
DTSTAMP:20260424T151301
CREATED:20190108T003819Z
LAST-MODIFIED:20190108T003819Z
UID:6839-1547746200-1547758800@spectrumtowncenter.com
SUMMARY:Dinner Special
DESCRIPTION:Ready for Date Night? Night Out w/ Friends?\nPurchase one Entreé and enjoy 2nd Entreé HALF OFF at Barking Mad Café\n*Discount valid one per person\, per visit. Dine-in only during dinner service 5:30PM-9PM
URL:https://spectrumtowncenter.com/event/dinner-special-6/
LOCATION:Barking Mad\, 239 Spectrum Ave.\, Gaithersburg\, MD\, 20879\, United States
END:VEVENT
BEGIN:VEVENT
DTSTART;TZID=UTC:20190116T170000
DTEND;TZID=UTC:20190116T210000
DTSTAMP:20260424T151301
CREATED:20190108T003240Z
LAST-MODIFIED:20190108T003240Z
UID:6827-1547658000-1547672400@spectrumtowncenter.com
SUMMARY:Happy Hour
DESCRIPTION:Happy Hour All Night at Barking Mad Café! \nRestaurant (5:30PM-9PM)\nBar Area (5PM-9PM)
URL:https://spectrumtowncenter.com/event/happy-hour-4/
LOCATION:Barking Mad\, 239 Spectrum Ave.\, Gaithersburg\, MD\, 20879\, United States
END:VEVENT
BEGIN:VEVENT
DTSTART;TZID=UTC:20190115T170000
DTEND;TZID=UTC:20190115T210000
DTSTAMP:20260424T151301
CREATED:20190108T003155Z
LAST-MODIFIED:20190108T003208Z
UID:6825-1547571600-1547586000@spectrumtowncenter.com
SUMMARY:Happy Hour
DESCRIPTION:Happy Hour All Night at Barking Mad Café! \nRestaurant (5:30PM-9PM)\nBar Area (5PM-9PM)
URL:https://spectrumtowncenter.com/event/happy-hour-3/
LOCATION:Barking Mad\, 239 Spectrum Ave.\, Gaithersburg\, MD\, 20879\, United States
END:VEVENT
BEGIN:VEVENT
DTSTART;TZID=UTC:20190112T180000
DTEND;TZID=UTC:20190112T210000
DTSTAMP:20260424T151301
CREATED:20190108T204212Z
LAST-MODIFIED:20190108T204212Z
UID:6854-1547316000-1547326800@spectrumtowncenter.com
SUMMARY:Winter Concert Series
DESCRIPTION:Dine-in at Barking Mad Café and enjoy some live music!
URL:https://spectrumtowncenter.com/event/winter-concert-series-8/
LOCATION:Barking Mad\, 239 Spectrum Ave.\, Gaithersburg\, MD\, 20879\, United States
END:VEVENT
BEGIN:VEVENT
DTSTART;TZID=UTC:20190110T173000
DTEND;TZID=UTC:20190110T210000
DTSTAMP:20260424T151301
CREATED:20190108T003738Z
LAST-MODIFIED:20190108T003738Z
UID:6837-1547141400-1547154000@spectrumtowncenter.com
SUMMARY:Dinner Special
DESCRIPTION:Ready for Date Night? Night Out w/ Friends?\nPurchase one Entreé and enjoy 2nd Entreé HALF OFF at Barking Mad Café\n*Discount valid one per person\, per visit. Dine-in only during dinner service 5:30PM-9PM
URL:https://spectrumtowncenter.com/event/dinner-special-5/
LOCATION:Barking Mad\, 239 Spectrum Ave.\, Gaithersburg\, MD\, 20879\, United States
END:VEVENT
BEGIN:VEVENT
DTSTART;TZID=UTC:20190109T170000
DTEND;TZID=UTC:20190109T210000
DTSTAMP:20260424T151301
CREATED:20190108T003105Z
LAST-MODIFIED:20190108T003105Z
UID:6823-1547053200-1547067600@spectrumtowncenter.com
SUMMARY:Happy Hour
DESCRIPTION:Happy Hour All Night at Barking Mad Café! \nRestaurant (5:30PM-9PM)\nBar Area (5PM-9PM)
URL:https://spectrumtowncenter.com/event/happy-hour-2/
LOCATION:Barking Mad\, 239 Spectrum Ave.\, Gaithersburg\, MD\, 20879\, United States
END:VEVENT
BEGIN:VEVENT
DTSTART;TZID=UTC:20190108T170000
DTEND;TZID=UTC:20190108T210000
DTSTAMP:20260424T151301
CREATED:20190108T002934Z
LAST-MODIFIED:20190108T002934Z
UID:6821-1546966800-1546981200@spectrumtowncenter.com
SUMMARY:Happy Hour
DESCRIPTION:Happy Hour All Night at Barking Mad Café! \nRestaurant (5:30PM-9PM)\nBar Area (5PM-9PM)
URL:https://spectrumtowncenter.com/event/happy-hour/
LOCATION:Barking Mad\, 239 Spectrum Ave.\, Gaithersburg\, MD\, 20879\, United States
END:VEVENT
BEGIN:VEVENT
DTSTART;TZID=UTC:20190107T184500
DTEND;TZID=UTC:20190107T194500
DTSTAMP:20260424T151301
CREATED:20190108T210940Z
LAST-MODIFIED:20190108T210940Z
UID:6856-1546886700-1546890300@spectrumtowncenter.com
SUMMARY:Yoga Conditioning
DESCRIPTION:A blend of traditional yoga and dynamic strength training. Don’t forget to bring your mat! Beginners are welcome! \n*Residents Only
URL:https://spectrumtowncenter.com/event/yoga-conditioning-5/2019-01-07/
LOCATION:Majestic Yoga Studio\, 116 Paramount Park Dr.\, Gaithersburg\, MD\, 20879\, United States
GEO:39.1590892;-77.2213387
X-APPLE-STRUCTURED-LOCATION;VALUE=URI;X-ADDRESS=Majestic Yoga Studio 116 Paramount Park Dr. Gaithersburg MD 20879 United States;X-APPLE-RADIUS=500;X-TITLE=116 Paramount Park Dr.:geo:-77.2213387,39.1590892
END:VEVENT
BEGIN:VEVENT
DTSTART;TZID=UTC:20190105T180000
DTEND;TZID=UTC:20190105T210000
DTSTAMP:20260424T151301
CREATED:20190108T204140Z
LAST-MODIFIED:20190108T204140Z
UID:6852-1546711200-1546722000@spectrumtowncenter.com
SUMMARY:Winter Concert Series
DESCRIPTION:Dine-in at Barking Mad Café and enjoy some live music!
URL:https://spectrumtowncenter.com/event/winter-concert-series-7/
LOCATION:Barking Mad\, 239 Spectrum Ave.\, Gaithersburg\, MD\, 20879\, United States
END:VEVENT
BEGIN:VEVENT
DTSTART;TZID=UTC:20190105T100000
DTEND;TZID=UTC:20190105T230000
DTSTAMP:20260424T151301
CREATED:20190108T211258Z
LAST-MODIFIED:20190108T211258Z
UID:6867-1546682400-1546729200@spectrumtowncenter.com
SUMMARY:Yin Yoga
DESCRIPTION:Injury prevention\, joint health\, and restorative energy. Long hold poses varying from 3 to 10 minutes. Don’t forget to bring your mat! Beginners are welcome! \n*Residents Only
URL:https://spectrumtowncenter.com/event/yin-yoga-6/2019-01-05/
LOCATION:MD
END:VEVENT
BEGIN:VEVENT
DTSTART;TZID=UTC:20190102T184500
DTEND;TZID=UTC:20190102T194500
DTSTAMP:20260424T151301
CREATED:20190108T211157Z
LAST-MODIFIED:20190108T211157Z
UID:6861-1546454700-1546458300@spectrumtowncenter.com
SUMMARY:Alignment Based Yoga
DESCRIPTION:Focus on alignment\, precision\, and strength\, often using props. Props will be provided by Spectrum. Don’t forget to bring your mat! Beginners are welcome! \n*Residents Only
URL:https://spectrumtowncenter.com/event/alignment-based-yoga-5/2019-01-02/
LOCATION:Majestic Yoga Studio\, 116 Paramount Park Dr.\, Gaithersburg\, MD\, 20879\, United States
GEO:39.1590892;-77.2213387
X-APPLE-STRUCTURED-LOCATION;VALUE=URI;X-ADDRESS=Majestic Yoga Studio 116 Paramount Park Dr. Gaithersburg MD 20879 United States;X-APPLE-RADIUS=500;X-TITLE=116 Paramount Park Dr.:geo:-77.2213387,39.1590892
END:VEVENT
BEGIN:VEVENT
DTSTART;VALUE=DATE:20190101
DTEND;VALUE=DATE:20190102
DTSTAMP:20260424T151301
CREATED:20181213T010837Z
LAST-MODIFIED:20181213T011613Z
UID:6807-1546300800-1546387199@spectrumtowncenter.com
SUMMARY:Leasing Office Closed
DESCRIPTION:We are closed for the holidays! \nHappy New Year!
URL:https://spectrumtowncenter.com/event/leasing-office-closed-3/
LOCATION:Spectrum Leasing Office\, 230 Spectrum Ave.\, Gaithersburg\, MD\, 20879\, United States
GEO:39.1592633;-77.2218048
X-APPLE-STRUCTURED-LOCATION;VALUE=URI;X-ADDRESS=Spectrum Leasing Office 230 Spectrum Ave. Gaithersburg MD 20879 United States;X-APPLE-RADIUS=500;X-TITLE=230 Spectrum Ave.:geo:-77.2218048,39.1592633
END:VEVENT
BEGIN:VEVENT
DTSTART;TZID=UTC:20181231T184500
DTEND;TZID=UTC:20181231T194500
DTSTAMP:20260424T151301
CREATED:20181213T010636Z
LAST-MODIFIED:20181213T010636Z
UID:6805-1546281900-1546285500@spectrumtowncenter.com
SUMMARY:Yoga Conditioning
DESCRIPTION:A blend of traditional yoga and dynamic strength training. Don’t forget to bring your mat! Beginners are welcome! \n*Residents Only
URL:https://spectrumtowncenter.com/event/yoga-conditioning-4/
LOCATION:Majestic Yoga Studio\, 116 Paramount Park Dr.\, Gaithersburg\, MD\, 20879\, United States
GEO:39.1590892;-77.2213387
X-APPLE-STRUCTURED-LOCATION;VALUE=URI;X-ADDRESS=Majestic Yoga Studio 116 Paramount Park Dr. Gaithersburg MD 20879 United States;X-APPLE-RADIUS=500;X-TITLE=116 Paramount Park Dr.:geo:-77.2213387,39.1590892
END:VEVENT
BEGIN:VEVENT
DTSTART;TZID=UTC:20181231T100000
DTEND;TZID=UTC:20181231T150000
DTSTAMP:20260424T151301
CREATED:20181210T233146Z
LAST-MODIFIED:20181210T233146Z
UID:6802-1546250400-1546268400@spectrumtowncenter.com
SUMMARY:Brunch
DESCRIPTION:Join us for Brunch at Barking Mad Café!
URL:https://spectrumtowncenter.com/event/brunch-2/
LOCATION:Barking Mad\, 239 Spectrum Ave.\, Gaithersburg\, MD\, 20879\, United States
END:VEVENT
BEGIN:VEVENT
DTSTART;TZID=UTC:20181231T090000
DTEND;TZID=UTC:20181231T120000
DTSTAMP:20260424T151301
CREATED:20181213T011901Z
LAST-MODIFIED:20181213T012148Z
UID:6815-1546246800-1546257600@spectrumtowncenter.com
SUMMARY:Early Closing
DESCRIPTION:The Leasing Office will be closing early for the holidays and will re-open on Wednesday\, Jan. 2nd at Noon
URL:https://spectrumtowncenter.com/event/early-closing/
LOCATION:Spectrum Leasing Office\, 230 Spectrum Ave.\, Gaithersburg\, MD\, 20879\, United States
GEO:39.1592633;-77.2218048
X-APPLE-STRUCTURED-LOCATION;VALUE=URI;X-ADDRESS=Spectrum Leasing Office 230 Spectrum Ave. Gaithersburg MD 20879 United States;X-APPLE-RADIUS=500;X-TITLE=230 Spectrum Ave.:geo:-77.2218048,39.1592633
END:VEVENT
BEGIN:VEVENT
DTSTART;TZID=UTC:20181229T180000
DTEND;TZID=UTC:20181229T210000
DTSTAMP:20260424T151301
CREATED:20181210T232925Z
LAST-MODIFIED:20181210T232925Z
UID:6798-1546106400-1546117200@spectrumtowncenter.com
SUMMARY:Winter Concert Series
DESCRIPTION:Dine-in at Barking Mad Café and enjoy some live music!
URL:https://spectrumtowncenter.com/event/winter-concert-series-4/
LOCATION:Barking Mad\, 239 Spectrum Ave.\, Gaithersburg\, MD\, 20879\, United States
END:VEVENT
BEGIN:VEVENT
DTSTART;TZID=UTC:20181229T100000
DTEND;TZID=UTC:20181229T110000
DTSTAMP:20260424T151301
CREATED:20181210T224243Z
LAST-MODIFIED:20181210T224243Z
UID:6735-1546077600-1546081200@spectrumtowncenter.com
SUMMARY:Yin Yoga
DESCRIPTION:Injury prevention\, joint health\, and restorative energy. Long hold poses varying from 3 to 10 minutes. Don’t forget to bring your mat! Beginners are welcome! \n*Residents Only
URL:https://spectrumtowncenter.com/event/yin-yoga-5/
LOCATION:Majestic Yoga Studio\, 116 Paramount Park Dr.\, Gaithersburg\, MD\, 20879\, United States
GEO:39.1590892;-77.2213387
X-APPLE-STRUCTURED-LOCATION;VALUE=URI;X-ADDRESS=Majestic Yoga Studio 116 Paramount Park Dr. Gaithersburg MD 20879 United States;X-APPLE-RADIUS=500;X-TITLE=116 Paramount Park Dr.:geo:-77.2213387,39.1590892
END:VEVENT
BEGIN:VEVENT
DTSTART;TZID=UTC:20181227T173000
DTEND;TZID=UTC:20181227T210000
DTSTAMP:20260424T151301
CREATED:20181210T232254Z
LAST-MODIFIED:20181210T232254Z
UID:6789-1545931800-1545944400@spectrumtowncenter.com
SUMMARY:Dinner Special
DESCRIPTION:Ready for Date Night? Night Out w/ Friends?\nPurchase one Entreé and enjoy 2nd Entreé HALF OFF at Barking Mad Café\n*Discount valid one per person\, per visit. Dine-in only during dinner service 5:30PM-9PM
URL:https://spectrumtowncenter.com/event/dinner-special-4/
LOCATION:Barking Mad\, 239 Spectrum Ave.\, Gaithersburg\, MD\, 20879\, United States
END:VEVENT
BEGIN:VEVENT
DTSTART;TZID=UTC:20181226T184500
DTEND;TZID=UTC:20181226T194500
DTSTAMP:20260424T151301
CREATED:20181210T225105Z
LAST-MODIFIED:20181210T225105Z
UID:6749-1545849900-1545853500@spectrumtowncenter.com
SUMMARY:Alignment Based Yoga
DESCRIPTION:Focus on alignment\, precision\, and strength\, often using props. Props will be provided by Spectrum. Don’t forget to bring your mat! Beginners are welcome! \n*Residents Only
URL:https://spectrumtowncenter.com/event/alignment-based-yoga-4/
LOCATION:Majestic Yoga Studio\, 116 Paramount Park Dr.\, Gaithersburg\, MD\, 20879\, United States
GEO:39.1590892;-77.2213387
X-APPLE-STRUCTURED-LOCATION;VALUE=URI;X-ADDRESS=Majestic Yoga Studio 116 Paramount Park Dr. Gaithersburg MD 20879 United States;X-APPLE-RADIUS=500;X-TITLE=116 Paramount Park Dr.:geo:-77.2213387,39.1590892
END:VEVENT
BEGIN:VEVENT
DTSTART;VALUE=DATE:20181225
DTEND;VALUE=DATE:20181226
DTSTAMP:20260424T151301
CREATED:20181210T230148Z
LAST-MODIFIED:20181213T011540Z
UID:6764-1545696000-1545782399@spectrumtowncenter.com
SUMMARY:Leasing Office Closed
DESCRIPTION:We are closed for the holidays! \nHappy Holidays!
URL:https://spectrumtowncenter.com/event/leasing-office-closed-2/
LOCATION:Spectrum Leasing Office\, 230 Spectrum Ave.\, Gaithersburg\, MD\, 20879\, United States
GEO:39.1592633;-77.2218048
X-APPLE-STRUCTURED-LOCATION;VALUE=URI;X-ADDRESS=Spectrum Leasing Office 230 Spectrum Ave. Gaithersburg MD 20879 United States;X-APPLE-RADIUS=500;X-TITLE=230 Spectrum Ave.:geo:-77.2218048,39.1592633
END:VEVENT
BEGIN:VEVENT
DTSTART;VALUE=DATE:20181225
DTEND;VALUE=DATE:20181226
DTSTAMP:20260424T151301
CREATED:20181210T225932Z
LAST-MODIFIED:20181210T225954Z
UID:6761-1545696000-1545782399@spectrumtowncenter.com
SUMMARY:Barking Mad Café Closed
DESCRIPTION:We are closed for the holidays! Happy Holidays!
URL:https://spectrumtowncenter.com/event/barking-mad-cafe-closed-2/
LOCATION:Barking Mad\, 239 Spectrum Ave.\, Gaithersburg\, MD\, 20879\, United States
END:VEVENT
BEGIN:VEVENT
DTSTART;TZID=UTC:20181224T100000
DTEND;TZID=UTC:20181224T150000
DTSTAMP:20260424T151301
CREATED:20181210T233051Z
LAST-MODIFIED:20181210T233051Z
UID:6800-1545645600-1545663600@spectrumtowncenter.com
SUMMARY:Brunch
DESCRIPTION:Join us for Brunch at Barking Mad Café!
URL:https://spectrumtowncenter.com/event/brunch/
LOCATION:Barking Mad\, 239 Spectrum Ave.\, Gaithersburg\, MD\, 20879\, United States
END:VEVENT
BEGIN:VEVENT
DTSTART;TZID=UTC:20181224T090000
DTEND;TZID=UTC:20181224T120000
DTSTAMP:20260424T151301
CREATED:20181213T011218Z
LAST-MODIFIED:20181213T012212Z
UID:6809-1545642000-1545652800@spectrumtowncenter.com
SUMMARY:Early Closing
DESCRIPTION:The Leasing Office will be closing early for the holidays and will re-open on Wednesday\, Dec. 26th at Noon \nHappy Holidays!
URL:https://spectrumtowncenter.com/event/leasing-office-closing-early/
LOCATION:Spectrum Leasing Office\, 230 Spectrum Ave.\, Gaithersburg\, MD\, 20879\, United States
GEO:39.1592633;-77.2218048
X-APPLE-STRUCTURED-LOCATION;VALUE=URI;X-ADDRESS=Spectrum Leasing Office 230 Spectrum Ave. Gaithersburg MD 20879 United States;X-APPLE-RADIUS=500;X-TITLE=230 Spectrum Ave.:geo:-77.2218048,39.1592633
END:VEVENT
BEGIN:VEVENT
DTSTART;TZID=UTC:20181222T180000
DTEND;TZID=UTC:20181222T210000
DTSTAMP:20260424T151301
CREATED:20181210T232851Z
LAST-MODIFIED:20181210T232851Z
UID:6796-1545501600-1545512400@spectrumtowncenter.com
SUMMARY:Winter Concert Series
DESCRIPTION:Dine-in at Barking Mad Café and enjoy some live music!
URL:https://spectrumtowncenter.com/event/winter-concert-series-3/
LOCATION:Barking Mad\, 239 Spectrum Ave.\, Gaithersburg\, MD\, 20879\, United States
END:VEVENT
BEGIN:VEVENT
DTSTART;TZID=UTC:20181222T100000
DTEND;TZID=UTC:20181222T110000
DTSTAMP:20260424T151301
CREATED:20181210T224214Z
LAST-MODIFIED:20181210T224214Z
UID:6733-1545472800-1545476400@spectrumtowncenter.com
SUMMARY:Yin Yoga
DESCRIPTION:Injury prevention\, joint health\, and restorative energy. Long hold poses varying from 3 to 10 minutes. Don’t forget to bring your mat! Beginners are welcome! \n*Residents Only
URL:https://spectrumtowncenter.com/event/yin-yoga-4/
LOCATION:Majestic Yoga Studio\, 116 Paramount Park Dr.\, Gaithersburg\, MD\, 20879\, United States
GEO:39.1590892;-77.2213387
X-APPLE-STRUCTURED-LOCATION;VALUE=URI;X-ADDRESS=Majestic Yoga Studio 116 Paramount Park Dr. Gaithersburg MD 20879 United States;X-APPLE-RADIUS=500;X-TITLE=116 Paramount Park Dr.:geo:-77.2213387,39.1590892
END:VEVENT
BEGIN:VEVENT
DTSTART;TZID=UTC:20181220T173000
DTEND;TZID=UTC:20181220T210000
DTSTAMP:20260424T151301
CREATED:20181210T232159Z
LAST-MODIFIED:20181210T232159Z
UID:6787-1545327000-1545339600@spectrumtowncenter.com
SUMMARY:Dinner Special
DESCRIPTION:Ready for Date Night? Night Out w/ Friends?\nPurchase one Entreé and enjoy 2nd Entreé HALF OFF at Barking Mad Café\n*Discount valid one per person\, per visit. Dine-in only during dinner service 5:30PM-9PM
URL:https://spectrumtowncenter.com/event/dinner-special-3/
LOCATION:Barking Mad\, 239 Spectrum Ave.\, Gaithersburg\, MD\, 20879\, United States
END:VEVENT
END:VCALENDAR