BEGIN:VCALENDAR
VERSION:2.0
PRODID:-//Spectrum Town Center - ECPv6.15.20//NONSGML v1.0//EN
CALSCALE:GREGORIAN
METHOD:PUBLISH
X-ORIGINAL-URL:https://spectrumtowncenter.com
X-WR-CALDESC:Events for Spectrum Town Center
REFRESH-INTERVAL;VALUE=DURATION:PT1H
X-Robots-Tag:noindex
X-PUBLISHED-TTL:PT1H
BEGIN:VTIMEZONE
TZID:UTC
BEGIN:STANDARD
TZOFFSETFROM:+0000
TZOFFSETTO:+0000
TZNAME:UTC
DTSTART:20170101T000000
END:STANDARD
END:VTIMEZONE
BEGIN:VEVENT
DTSTART;TZID=UTC:20181222T180000
DTEND;TZID=UTC:20181222T210000
DTSTAMP:20260423T111703
CREATED:20181210T232851Z
LAST-MODIFIED:20181210T232851Z
UID:6796-1545501600-1545512400@spectrumtowncenter.com
SUMMARY:Winter Concert Series
DESCRIPTION:Dine-in at Barking Mad Café and enjoy some live music!
URL:https://spectrumtowncenter.com/event/winter-concert-series-3/
LOCATION:Barking Mad\, 239 Spectrum Ave.\, Gaithersburg\, MD\, 20879\, United States
END:VEVENT
BEGIN:VEVENT
DTSTART;TZID=UTC:20181220T173000
DTEND;TZID=UTC:20181220T210000
DTSTAMP:20260423T111703
CREATED:20181210T232159Z
LAST-MODIFIED:20181210T232159Z
UID:6787-1545327000-1545339600@spectrumtowncenter.com
SUMMARY:Dinner Special
DESCRIPTION:Ready for Date Night? Night Out w/ Friends?\nPurchase one Entreé and enjoy 2nd Entreé HALF OFF at Barking Mad Café\n*Discount valid one per person\, per visit. Dine-in only during dinner service 5:30PM-9PM
URL:https://spectrumtowncenter.com/event/dinner-special-3/
LOCATION:Barking Mad\, 239 Spectrum Ave.\, Gaithersburg\, MD\, 20879\, United States
END:VEVENT
BEGIN:VEVENT
DTSTART;TZID=UTC:20181219T170000
DTEND;TZID=UTC:20181219T210000
DTSTAMP:20260423T111703
CREATED:20181210T230834Z
LAST-MODIFIED:20181210T231930Z
UID:6770-1545238800-1545253200@spectrumtowncenter.com
SUMMARY:Happy Hour
DESCRIPTION:Happy Hour All Night at Barking Mad Café! \nRestaurant (5:30PM-9PM)\nBar Area (5PM-9PM)
URL:https://spectrumtowncenter.com/event/barking-mad-cafe-happy-hour-5/
LOCATION:Barking Mad\, 239 Spectrum Ave.\, Gaithersburg\, MD\, 20879\, United States
END:VEVENT
BEGIN:VEVENT
DTSTART;TZID=UTC:20181218T170000
DTEND;TZID=UTC:20181218T210000
DTSTAMP:20260423T111703
CREATED:20181210T225701Z
LAST-MODIFIED:20181210T231743Z
UID:6756-1545152400-1545166800@spectrumtowncenter.com
SUMMARY:Happy Hour
DESCRIPTION:Happy Hour All Night at Barking Mad Café! \nRestaurant (5:30PM-9PM)\nBar Area (5PM-9PM)
URL:https://spectrumtowncenter.com/event/barking-mad-cafe/
LOCATION:Barking Mad\, 239 Spectrum Ave.\, Gaithersburg\, MD\, 20879\, United States
END:VEVENT
BEGIN:VEVENT
DTSTART;TZID=UTC:20181215T180000
DTEND;TZID=UTC:20181215T210000
DTSTAMP:20260423T111703
CREATED:20181210T232715Z
LAST-MODIFIED:20181210T232715Z
UID:6793-1544896800-1544907600@spectrumtowncenter.com
SUMMARY:Winter Concert Series
DESCRIPTION:Dine-in at Barking Mad Café and enjoy some live music!
URL:https://spectrumtowncenter.com/event/winter-concert-series-2/
LOCATION:Barking Mad\, 239 Spectrum Ave.\, Gaithersburg\, MD\, 20879\, United States
END:VEVENT
BEGIN:VEVENT
DTSTART;TZID=UTC:20181213T173000
DTEND;TZID=UTC:20181213T210000
DTSTAMP:20260423T111703
CREATED:20181210T232047Z
LAST-MODIFIED:20181210T232047Z
UID:6785-1544722200-1544734800@spectrumtowncenter.com
SUMMARY:Dinner Special
DESCRIPTION:Ready for Date Night? Night Out w/ Friends?\nPurchase one Entreé and enjoy 2nd Entreé HALF OFF at Barking Mad Café\n*Discount valid one per person\, per visit. Dine-in only during dinner service 5:30PM-9PM
URL:https://spectrumtowncenter.com/event/dinner-special-2/
LOCATION:Barking Mad\, 239 Spectrum Ave.\, Gaithersburg\, MD\, 20879\, United States
END:VEVENT
BEGIN:VEVENT
DTSTART;TZID=UTC:20181212T170000
DTEND;TZID=UTC:20181212T210000
DTSTAMP:20260423T111703
CREATED:20181210T230539Z
LAST-MODIFIED:20181210T231900Z
UID:6768-1544634000-1544648400@spectrumtowncenter.com
SUMMARY:Happy Hour
DESCRIPTION:Happy Hour All Night at Barking Mad Café! \nRestaurant (5:30PM-9PM)\nBar Area (5PM-9PM)
URL:https://spectrumtowncenter.com/event/barking-mad-cafe-happy-hour-4/
LOCATION:Barking Mad\, 239 Spectrum Ave.\, Gaithersburg\, MD\, 20879\, United States
END:VEVENT
BEGIN:VEVENT
DTSTART;TZID=UTC:20181211T170000
DTEND;TZID=UTC:20181211T210000
DTSTAMP:20260423T111703
CREATED:20181210T225617Z
LAST-MODIFIED:20181210T231706Z
UID:6754-1544547600-1544562000@spectrumtowncenter.com
SUMMARY:Happy Hour
DESCRIPTION:Happy Hour All Night at Barking Mad Café! \nRestaurant (5:30PM-9PM)\nBar Area (5PM-9PM)
URL:https://spectrumtowncenter.com/event/barking-mad-cafe-happy-hour-2/
LOCATION:Barking Mad\, 239 Spectrum Ave.\, Gaithersburg\, MD\, 20879\, United States
END:VEVENT
BEGIN:VEVENT
DTSTART;TZID=UTC:20181208T180000
DTEND;TZID=UTC:20181208T210000
DTSTAMP:20260423T111703
CREATED:20181210T232527Z
LAST-MODIFIED:20181210T232734Z
UID:6791-1544292000-1544302800@spectrumtowncenter.com
SUMMARY:Winter Concert Series
DESCRIPTION:Dine-in at Barking Mad Café and enjoy some live music!
URL:https://spectrumtowncenter.com/event/winter-concert-series/
LOCATION:Barking Mad\, 239 Spectrum Ave.\, Gaithersburg\, MD\, 20879\, United States
END:VEVENT
BEGIN:VEVENT
DTSTART;TZID=UTC:20181206T173000
DTEND;TZID=UTC:20181206T210000
DTSTAMP:20260423T111703
CREATED:20181210T231500Z
LAST-MODIFIED:20181210T231500Z
UID:6774-1544117400-1544130000@spectrumtowncenter.com
SUMMARY:Dinner Special
DESCRIPTION:Ready for Date Night? Night Out w/ Friends?\nPurchase one Entreé and enjoy 2nd Entreé HALF OFF at Barking Mad Café\n*Discount valid one per person\, per visit. Dine-in only during dinner service 5:30PM-9PM
URL:https://spectrumtowncenter.com/event/dinner-special/
LOCATION:Barking Mad\, 239 Spectrum Ave.\, Gaithersburg\, MD\, 20879\, United States
END:VEVENT
BEGIN:VEVENT
DTSTART;TZID=UTC:20181205T170000
DTEND;TZID=UTC:20181205T210000
DTSTAMP:20260423T111703
CREATED:20181210T230450Z
LAST-MODIFIED:20181210T231830Z
UID:6766-1544029200-1544043600@spectrumtowncenter.com
SUMMARY:Happy Hour
DESCRIPTION:Happy Hour All Night at Barking Mad Café! \nRestaurant (5:30PM-9PM)\nBar Area (5PM-9PM)
URL:https://spectrumtowncenter.com/event/barking-mad-cafe-happy-hour-3/
LOCATION:Barking Mad\, 239 Spectrum Ave.\, Gaithersburg\, MD\, 20879\, United States
END:VEVENT
BEGIN:VEVENT
DTSTART;TZID=UTC:20181204T170000
DTEND;TZID=UTC:20181204T210000
DTSTAMP:20260423T111703
CREATED:20181210T225515Z
LAST-MODIFIED:20181210T231610Z
UID:6751-1543942800-1543957200@spectrumtowncenter.com
SUMMARY:Happy Hour
DESCRIPTION:Happy Hour All Night at Barking Mad Café! \nRestaurant (5:30PM-9PM)\nBar Area (5PM-9PM)
URL:https://spectrumtowncenter.com/event/barking-mad-cafe-happy-hour/
LOCATION:Barking Mad\, 239 Spectrum Ave.\, Gaithersburg\, MD\, 20879\, United States
END:VEVENT
BEGIN:VEVENT
DTSTART;TZID=UTC:20181125T090000
DTEND;TZID=UTC:20181125T150000
DTSTAMP:20260423T111703
CREATED:20181120T195336Z
LAST-MODIFIED:20181120T195336Z
UID:6721-1543136400-1543158000@spectrumtowncenter.com
SUMMARY:Brunch @ Barking Mad Cafe
DESCRIPTION:Barking Mad Cafe invites you for Brunch!
URL:https://spectrumtowncenter.com/event/brunch-barking-mad-cafe-3/
LOCATION:Barking Mad\, 239 Spectrum Ave.\, Gaithersburg\, MD\, 20879\, United States
END:VEVENT
BEGIN:VEVENT
DTSTART;TZID=UTC:20181124T090000
DTEND;TZID=UTC:20181124T150000
DTSTAMP:20260423T111703
CREATED:20181120T195302Z
LAST-MODIFIED:20181120T195302Z
UID:6719-1543050000-1543071600@spectrumtowncenter.com
SUMMARY:Brunch @ Barking Mad Cafe
DESCRIPTION:Barking Mad Cafe invites you for Brunch!
URL:https://spectrumtowncenter.com/event/brunch-barking-mad-cafe-2/
LOCATION:Barking Mad\, 239 Spectrum Ave.\, Gaithersburg\, MD\, 20879\, United States
END:VEVENT
BEGIN:VEVENT
DTSTART;TZID=UTC:20181123T100000
DTEND;TZID=UTC:20181123T150000
DTSTAMP:20260423T111703
CREATED:20181120T194944Z
LAST-MODIFIED:20181120T194944Z
UID:6715-1542967200-1542985200@spectrumtowncenter.com
SUMMARY:Brunch @ Barking Mad Cafe
DESCRIPTION:Barking Mad Cafe invites you for Brunch!
URL:https://spectrumtowncenter.com/event/brunch-barking-mad-cafe/
LOCATION:Barking Mad\, 239 Spectrum Ave.\, Gaithersburg\, MD\, 20879\, United States
END:VEVENT
BEGIN:VEVENT
DTSTART;VALUE=DATE:20181122
DTEND;VALUE=DATE:20181123
DTSTAMP:20260423T111703
CREATED:20181120T195137Z
LAST-MODIFIED:20181120T195137Z
UID:6717-1542844800-1542931199@spectrumtowncenter.com
SUMMARY:Barking Mad Cafe Closed
DESCRIPTION:Barking Mad Cafe is closed. Happy Thanksgiving!
URL:https://spectrumtowncenter.com/event/barking-mad-cafe-closed/
LOCATION:Barking Mad\, 239 Spectrum Ave.\, Gaithersburg\, MD\, 20879\, United States
END:VEVENT
BEGIN:VEVENT
DTSTART;TZID=UTC:20180418T183000
DTEND;TZID=UTC:20180418T203000
DTSTAMP:20260423T111703
CREATED:20180412T192939Z
LAST-MODIFIED:20180412T193016Z
UID:6327-1524076200-1524083400@spectrumtowncenter.com
SUMMARY:Meet the Candidates
DESCRIPTION:Join us for a Meet + Greet w/ Brenda Wolff (Board of Education) and Will Jawando (Democrat for County Council)
URL:https://spectrumtowncenter.com/event/meet-the-candidates/
LOCATION:Barking Mad\, 239 Spectrum Ave.\, Gaithersburg\, MD\, 20879\, United States
END:VEVENT
BEGIN:VEVENT
DTSTART;TZID=UTC:20180331T180000
DTEND;TZID=UTC:20180331T210000
DTSTAMP:20260423T111703
CREATED:20180301T023944Z
LAST-MODIFIED:20180301T023944Z
UID:6312-1522519200-1522530000@spectrumtowncenter.com
SUMMARY:Live: Alexander Gallows
DESCRIPTION:Artist: Alexander Gallows / Genre: Classic
URL:https://spectrumtowncenter.com/event/live-alexander-gallows-5/
LOCATION:Barking Mad\, 239 Spectrum Ave.\, Gaithersburg\, MD\, 20879\, United States
END:VEVENT
BEGIN:VEVENT
DTSTART;TZID=UTC:20180324T180000
DTEND;TZID=UTC:20180324T210000
DTSTAMP:20260423T111703
CREATED:20180301T023855Z
LAST-MODIFIED:20180301T023855Z
UID:6310-1521914400-1521925200@spectrumtowncenter.com
SUMMARY:Live: Alexander Gallows
DESCRIPTION:Artist: Alexander Gallows / Genre: Classic
URL:https://spectrumtowncenter.com/event/live-alexander-gallows-4/
LOCATION:Barking Mad\, 239 Spectrum Ave.\, Gaithersburg\, MD\, 20879\, United States
END:VEVENT
BEGIN:VEVENT
DTSTART;TZID=UTC:20180317T180000
DTEND;TZID=UTC:20180317T210000
DTSTAMP:20260423T111703
CREATED:20180301T023812Z
LAST-MODIFIED:20180301T023812Z
UID:6308-1521309600-1521320400@spectrumtowncenter.com
SUMMARY:Live: Alexander Gallows
DESCRIPTION:Artist: Alexander Gallows / Genre: Classic
URL:https://spectrumtowncenter.com/event/live-alexander-gallows-3/
LOCATION:Barking Mad\, 239 Spectrum Ave.\, Gaithersburg\, MD\, 20879\, United States
END:VEVENT
BEGIN:VEVENT
DTSTART;TZID=UTC:20180310T180000
DTEND;TZID=UTC:20180310T210000
DTSTAMP:20260423T111703
CREATED:20180301T023723Z
LAST-MODIFIED:20180301T023723Z
UID:6306-1520704800-1520715600@spectrumtowncenter.com
SUMMARY:Live: Alexander Gallows
DESCRIPTION:Artist: Alexander Gallows / Genre: Classic
URL:https://spectrumtowncenter.com/event/live-alexander-gallows-2/
LOCATION:Barking Mad\, 239 Spectrum Ave.\, Gaithersburg\, MD\, 20879\, United States
END:VEVENT
BEGIN:VEVENT
DTSTART;TZID=UTC:20180303T180000
DTEND;TZID=UTC:20180303T210000
DTSTAMP:20260423T111703
CREATED:20180301T023604Z
LAST-MODIFIED:20180301T023604Z
UID:6304-1520100000-1520110800@spectrumtowncenter.com
SUMMARY:Live: Alexander Gallows
DESCRIPTION:Artist: Alexander Gallows / Genre: Classic
URL:https://spectrumtowncenter.com/event/live-alexander-gallows/
LOCATION:Barking Mad\, 239 Spectrum Ave.\, Gaithersburg\, MD\, 20879\, United States
END:VEVENT
BEGIN:VEVENT
DTSTART;TZID=UTC:20180224T180000
DTEND;TZID=UTC:20180224T210000
DTSTAMP:20260423T111703
CREATED:20180205T215732Z
LAST-MODIFIED:20180205T222438Z
UID:6238-1519495200-1519506000@spectrumtowncenter.com
SUMMARY:Live: Alexander Gallows
DESCRIPTION:Artist: Alexander Gallows / Genre: Classic
URL:https://spectrumtowncenter.com/event/live-alexander-plays-classic/
LOCATION:Barking Mad\, 239 Spectrum Ave.\, Gaithersburg\, MD\, 20879\, United States
END:VEVENT
BEGIN:VEVENT
DTSTART;TZID=UTC:20180223T180000
DTEND;TZID=UTC:20180223T210000
DTSTAMP:20260423T111703
CREATED:20180205T231144Z
LAST-MODIFIED:20180205T231144Z
UID:6251-1519408800-1519419600@spectrumtowncenter.com
SUMMARY:Jazz Concert Series
DESCRIPTION:
URL:https://spectrumtowncenter.com/event/jazz-concert-series-4/
LOCATION:Barking Mad\, 239 Spectrum Ave.\, Gaithersburg\, MD\, 20879\, United States
END:VEVENT
BEGIN:VEVENT
DTSTART;TZID=UTC:20180219T100000
DTEND;TZID=UTC:20180219T150000
DTSTAMP:20260423T111703
CREATED:20180203T015315Z
LAST-MODIFIED:20180203T015315Z
UID:5047-1519034400-1519052400@spectrumtowncenter.com
SUMMARY:President's Day Brunch
DESCRIPTION:
URL:https://spectrumtowncenter.com/event/presidents-day-brunch/
LOCATION:Barking Mad\, 239 Spectrum Ave.\, Gaithersburg\, MD\, 20879\, United States
END:VEVENT
BEGIN:VEVENT
DTSTART;TZID=UTC:20180217T180000
DTEND;TZID=UTC:20180217T210000
DTSTAMP:20260423T111703
CREATED:20180205T215629Z
LAST-MODIFIED:20180205T222420Z
UID:6236-1518890400-1518901200@spectrumtowncenter.com
SUMMARY:Live: Alexander Gallows
DESCRIPTION:Artist: Alexander Gallows / Genre: Classic
URL:https://spectrumtowncenter.com/event/live-alexander-plays-classics-3/
LOCATION:Barking Mad\, 239 Spectrum Ave.\, Gaithersburg\, MD\, 20879\, United States
END:VEVENT
BEGIN:VEVENT
DTSTART;TZID=UTC:20180216T180000
DTEND;TZID=UTC:20180216T210000
DTSTAMP:20260423T111703
CREATED:20180205T231120Z
LAST-MODIFIED:20180205T231120Z
UID:6249-1518804000-1518814800@spectrumtowncenter.com
SUMMARY:Jazz Concert Series
DESCRIPTION:
URL:https://spectrumtowncenter.com/event/jazz-concert-series-3/
LOCATION:Barking Mad\, 239 Spectrum Ave.\, Gaithersburg\, MD\, 20879\, United States
END:VEVENT
BEGIN:VEVENT
DTSTART;TZID=UTC:20180214T204500
DTEND;TZID=UTC:20180214T204500
DTSTAMP:20260423T111703
CREATED:20180205T215238Z
LAST-MODIFIED:20180205T215238Z
UID:6232-1518641100-1518641100@spectrumtowncenter.com
SUMMARY:Valentine's Day
DESCRIPTION:Celebrate Valentine’s Day with us! Call for reservations: 240.297.6230
URL:https://spectrumtowncenter.com/event/valentines-day-3/
LOCATION:Barking Mad\, 239 Spectrum Ave.\, Gaithersburg\, MD\, 20879\, United States
END:VEVENT
BEGIN:VEVENT
DTSTART;TZID=UTC:20180214T190000
DTEND;TZID=UTC:20180214T190000
DTSTAMP:20260423T111703
CREATED:20180205T215144Z
LAST-MODIFIED:20180205T215144Z
UID:6230-1518634800-1518634800@spectrumtowncenter.com
SUMMARY:Valentine's Day
DESCRIPTION:Celebrate Valentine’s Day with us! Call for reservations: 240.297.6230
URL:https://spectrumtowncenter.com/event/valentines-day-2/
LOCATION:Barking Mad\, 239 Spectrum Ave.\, Gaithersburg\, MD\, 20879\, United States
END:VEVENT
BEGIN:VEVENT
DTSTART;TZID=UTC:20180214T173000
DTEND;TZID=UTC:20180214T173000
DTSTAMP:20260423T111703
CREATED:20180205T215044Z
LAST-MODIFIED:20180205T215044Z
UID:6228-1518629400-1518629400@spectrumtowncenter.com
SUMMARY:Valentine's Day
DESCRIPTION:Celebrate Valentine’s Day with us! Call for reservations: 240.297.6230
URL:https://spectrumtowncenter.com/event/valentines-day/
LOCATION:Barking Mad\, 239 Spectrum Ave.\, Gaithersburg\, MD\, 20879\, United States
END:VEVENT
END:VCALENDAR