BEGIN:VCALENDAR
VERSION:2.0
PRODID:-//Spectrum Town Center - ECPv6.15.20//NONSGML v1.0//EN
CALSCALE:GREGORIAN
METHOD:PUBLISH
X-ORIGINAL-URL:https://spectrumtowncenter.com
X-WR-CALDESC:Events for Spectrum Town Center
REFRESH-INTERVAL;VALUE=DURATION:PT1H
X-Robots-Tag:noindex
X-PUBLISHED-TTL:PT1H
BEGIN:VTIMEZONE
TZID:UTC
BEGIN:STANDARD
TZOFFSETFROM:+0000
TZOFFSETTO:+0000
TZNAME:UTC
DTSTART:20170101T000000
END:STANDARD
END:VTIMEZONE
BEGIN:VEVENT
DTSTART;TZID=UTC:20180609T113000
DTEND;TZID=UTC:20180609T210000
DTSTAMP:20260423T124146
CREATED:20180516T234004Z
LAST-MODIFIED:20180516T234004Z
UID:6351-1528543800-1528578000@spectrumtowncenter.com
SUMMARY:Alex's Lemonade Days
DESCRIPTION:Join @Firebirds Wood Fired Grill in the fight against childhood cancer. Stop by their lemonade stand and buy a cup of lemonade with all proceeds going to ALSF. #onecupatatime #FirebirdsLemonade \n**Participating locations: ALL 47 Firebirds locations
URL:https://spectrumtowncenter.com/event/alexs-lemonade-days-2/
LOCATION:Firebirds Wood Fired Grill\, 390 Spectrum Ave.\, Gaithersburg\, MD\, 20879\, United States
GEO:39.1594295;-77.219979
X-APPLE-STRUCTURED-LOCATION;VALUE=URI;X-ADDRESS=Firebirds Wood Fired Grill 390 Spectrum Ave. Gaithersburg MD 20879 United States;X-APPLE-RADIUS=500;X-TITLE=390 Spectrum Ave.:geo:-77.219979,39.1594295
END:VEVENT
BEGIN:VEVENT
DTSTART;TZID=UTC:20180608T113000
DTEND;TZID=UTC:20180608T210000
DTSTAMP:20260423T124146
CREATED:20180516T233504Z
LAST-MODIFIED:20180516T233831Z
UID:6344-1528457400-1528491600@spectrumtowncenter.com
SUMMARY:Alex's Lemonade Days
DESCRIPTION:Join @Firebirds Wood Fired Grill in the fight against childhood cancer. Stop by their lemonade stand and buy a cup of lemonade with all proceeds going to ALSF. #onecupatatime #FirebirdsLemonade \n**Participating locations: ALL 47 Firebirds locations
URL:https://spectrumtowncenter.com/event/alexs-lemonade-days/
LOCATION:Firebirds Wood Fired Grill\, 390 Spectrum Ave.\, Gaithersburg\, MD\, 20879\, United States
GEO:39.1594295;-77.219979
X-APPLE-STRUCTURED-LOCATION;VALUE=URI;X-ADDRESS=Firebirds Wood Fired Grill 390 Spectrum Ave. Gaithersburg MD 20879 United States;X-APPLE-RADIUS=500;X-TITLE=390 Spectrum Ave.:geo:-77.219979,39.1594295
END:VEVENT
END:VCALENDAR