BEGIN:VCALENDAR
VERSION:2.0
PRODID:-//Spectrum Town Center - ECPv6.15.20//NONSGML v1.0//EN
CALSCALE:GREGORIAN
METHOD:PUBLISH
X-ORIGINAL-URL:https://spectrumtowncenter.com
X-WR-CALDESC:Events for Spectrum Town Center
REFRESH-INTERVAL;VALUE=DURATION:PT1H
X-Robots-Tag:noindex
X-PUBLISHED-TTL:PT1H
BEGIN:VTIMEZONE
TZID:UTC
BEGIN:STANDARD
TZOFFSETFROM:+0000
TZOFFSETTO:+0000
TZNAME:UTC
DTSTART:20170101T000000
END:STANDARD
END:VTIMEZONE
BEGIN:VEVENT
DTSTART;TZID=UTC:20180328T180000
DTEND;TZID=UTC:20180328T190000
DTSTAMP:20260423T160134
CREATED:20180301T023350Z
LAST-MODIFIED:20180301T023350Z
UID:6302-1522260000-1522263600@spectrumtowncenter.com
SUMMARY:Yoga
DESCRIPTION:Residents only
URL:https://spectrumtowncenter.com/event/yoga-3/
LOCATION:Majestic Fitness Center\, 120 Paramount Park Dr.\, Gaithersburg\, MD\, 20879\, United States
GEO:39.1595232;-77.2219685
X-APPLE-STRUCTURED-LOCATION;VALUE=URI;X-ADDRESS=Majestic Fitness Center 120 Paramount Park Dr. Gaithersburg MD 20879 United States;X-APPLE-RADIUS=500;X-TITLE=120 Paramount Park Dr.:geo:-77.2219685,39.1595232
END:VEVENT
BEGIN:VEVENT
DTSTART;TZID=UTC:20180321T180000
DTEND;TZID=UTC:20180321T190000
DTSTAMP:20260423T160134
CREATED:20180301T023311Z
LAST-MODIFIED:20180301T023311Z
UID:6300-1521655200-1521658800@spectrumtowncenter.com
SUMMARY:Yoga
DESCRIPTION:Residents only
URL:https://spectrumtowncenter.com/event/yoga-2/
LOCATION:Majestic Fitness Center\, 120 Paramount Park Dr.\, Gaithersburg\, MD\, 20879\, United States
GEO:39.1595232;-77.2219685
X-APPLE-STRUCTURED-LOCATION;VALUE=URI;X-ADDRESS=Majestic Fitness Center 120 Paramount Park Dr. Gaithersburg MD 20879 United States;X-APPLE-RADIUS=500;X-TITLE=120 Paramount Park Dr.:geo:-77.2219685,39.1595232
END:VEVENT
BEGIN:VEVENT
DTSTART;TZID=UTC:20180314T180000
DTEND;TZID=UTC:20180314T190000
DTSTAMP:20260423T160134
CREATED:20180301T023040Z
LAST-MODIFIED:20180301T023040Z
UID:6296-1521050400-1521054000@spectrumtowncenter.com
SUMMARY:Yoga
DESCRIPTION:Residents only
URL:https://spectrumtowncenter.com/event/yoga/
LOCATION:Majestic Fitness Center\, 120 Paramount Park Dr.\, Gaithersburg\, MD\, 20879\, United States
GEO:39.1595232;-77.2219685
X-APPLE-STRUCTURED-LOCATION;VALUE=URI;X-ADDRESS=Majestic Fitness Center 120 Paramount Park Dr. Gaithersburg MD 20879 United States;X-APPLE-RADIUS=500;X-TITLE=120 Paramount Park Dr.:geo:-77.2219685,39.1595232
END:VEVENT
END:VCALENDAR