BEGIN:VCALENDAR
VERSION:2.0
PRODID:-//Spectrum Town Center - ECPv6.15.20//NONSGML v1.0//EN
CALSCALE:GREGORIAN
METHOD:PUBLISH
X-WR-CALNAME:Spectrum Town Center
X-ORIGINAL-URL:https://spectrumtowncenter.com
X-WR-CALDESC:Events for Spectrum Town Center
REFRESH-INTERVAL;VALUE=DURATION:PT1H
X-Robots-Tag:noindex
X-PUBLISHED-TTL:PT1H
BEGIN:VTIMEZONE
TZID:UTC
BEGIN:STANDARD
TZOFFSETFROM:+0000
TZOFFSETTO:+0000
TZNAME:UTC
DTSTART:20170101T000000
END:STANDARD
END:VTIMEZONE
BEGIN:VEVENT
DTSTART;TZID=UTC:20180204T180000
DTEND;TZID=UTC:20180205T000000
DTSTAMP:20260423T161024
CREATED:20180202T213347Z
LAST-MODIFIED:20180203T013103Z
UID:5039-1517767200-1517788800@spectrumtowncenter.com
SUMMARY:Super Bowl Party
DESCRIPTION:Watch the Super Bowl in the Majestic Movie Theater + enjoy snack in the Club Room \nFood and drinks will be provided!
URL:https://spectrumtowncenter.com/event/spectrum-super-weekend/
LOCATION:Majestic Movie Theater\, 120 Paramount Park Dr.\, Gaithersburg\, 20879\, United States
GEO:39.1595421;-77.2219009
X-APPLE-STRUCTURED-LOCATION;VALUE=URI;X-ADDRESS=Majestic Movie Theater 120 Paramount Park Dr. Gaithersburg 20879 United States;X-APPLE-RADIUS=500;X-TITLE=120 Paramount Park Dr.:geo:-77.2219009,39.1595421
END:VEVENT
END:VCALENDAR