BEGIN:VCALENDAR
VERSION:2.0
PRODID:-//Spectrum Town Center - ECPv6.15.20//NONSGML v1.0//EN
CALSCALE:GREGORIAN
METHOD:PUBLISH
X-ORIGINAL-URL:https://spectrumtowncenter.com
X-WR-CALDESC:Events for Spectrum Town Center
REFRESH-INTERVAL;VALUE=DURATION:PT1H
X-Robots-Tag:noindex
X-PUBLISHED-TTL:PT1H
BEGIN:VTIMEZONE
TZID:UTC
BEGIN:STANDARD
TZOFFSETFROM:+0000
TZOFFSETTO:+0000
TZNAME:UTC
DTSTART:20160101T000000
END:STANDARD
END:VTIMEZONE
BEGIN:VEVENT
DTSTART;TZID=UTC:20200302T181500
DTEND;TZID=UTC:20200302T181500
DTSTAMP:20260423T113526
CREATED:20200304T022743Z
LAST-MODIFIED:20200304T022743Z
UID:7432-1583172900-1583172900@spectrumtowncenter.com
SUMMARY:Hardy's BBQ Food Truck
DESCRIPTION:Hardy’s BBQ Food Truck is back! They will be parked in the Paramount East’s retail lot. Bring your friends\, family\, and appetite!
URL:https://spectrumtowncenter.com/event/hardys-bbq-food-truck/
LOCATION:Paramount East Parking Lot\, 230 Spectrum Avenue\, Gaithersburg\, MD\, 20879
GEO:39.1605952;-77.2223224
X-APPLE-STRUCTURED-LOCATION;VALUE=URI;X-ADDRESS=Paramount East Parking Lot 230 Spectrum Avenue Gaithersburg MD 20879;X-APPLE-RADIUS=500;X-TITLE=230 Spectrum Avenue:geo:-77.2223224,39.1605952
END:VEVENT
BEGIN:VEVENT
DTSTART;TZID=UTC:20190305T160000
DTEND;TZID=UTC:20190305T200000
DTSTAMP:20260423T113526
CREATED:20190228T201438Z
LAST-MODIFIED:20190228T202328Z
UID:7028-1551801600-1551816000@spectrumtowncenter.com
SUMMARY:Say Cheese! Food Truck
DESCRIPTION:Don’t miss Say Cheese! Food Truck! They will parked in the Paramount East’s retail lot. Bring your friends\, family\, and appetite! \nCheck out their menu here
URL:https://spectrumtowncenter.com/event/say-cheese-food-truck/
LOCATION:Paramount East Parking Lot\, 230 Spectrum Avenue\, Gaithersburg\, MD\, 20879
GEO:39.1605952;-77.2223224
X-APPLE-STRUCTURED-LOCATION;VALUE=URI;X-ADDRESS=Paramount East Parking Lot 230 Spectrum Avenue Gaithersburg MD 20879;X-APPLE-RADIUS=500;X-TITLE=230 Spectrum Avenue:geo:-77.2223224,39.1605952
END:VEVENT
BEGIN:VEVENT
DTSTART;TZID=UTC:20180327T170000
DTEND;TZID=UTC:20180327T200000
DTSTAMP:20260423T113526
CREATED:20180301T022635Z
LAST-MODIFIED:20180301T022635Z
UID:6294-1522170000-1522180800@spectrumtowncenter.com
SUMMARY:Food Truck: Fat Pete's Barbecue
DESCRIPTION:
URL:https://spectrumtowncenter.com/event/food-truck-fat-petes-barbecue-2/
LOCATION:Paramount East Parking Lot\, 230 Spectrum Avenue\, Gaithersburg\, MD\, 20879
GEO:39.1605952;-77.2223224
X-APPLE-STRUCTURED-LOCATION;VALUE=URI;X-ADDRESS=Paramount East Parking Lot 230 Spectrum Avenue Gaithersburg MD 20879;X-APPLE-RADIUS=500;X-TITLE=230 Spectrum Avenue:geo:-77.2223224,39.1605952
END:VEVENT
BEGIN:VEVENT
DTSTART;TZID=UTC:20180313T180000
DTEND;TZID=UTC:20180313T200000
DTSTAMP:20260423T113526
CREATED:20180301T022544Z
LAST-MODIFIED:20180301T022544Z
UID:6292-1520964000-1520971200@spectrumtowncenter.com
SUMMARY:Food Truck: Say Cheese
DESCRIPTION:
URL:https://spectrumtowncenter.com/event/food-truck-say-cheese-3/
LOCATION:Paramount East Parking Lot\, 230 Spectrum Avenue\, Gaithersburg\, MD\, 20879
GEO:39.1605952;-77.2223224
X-APPLE-STRUCTURED-LOCATION;VALUE=URI;X-ADDRESS=Paramount East Parking Lot 230 Spectrum Avenue Gaithersburg MD 20879;X-APPLE-RADIUS=500;X-TITLE=230 Spectrum Avenue:geo:-77.2223224,39.1605952
END:VEVENT
BEGIN:VEVENT
DTSTART;TZID=UTC:20180227T180000
DTEND;TZID=UTC:20180227T200000
DTSTAMP:20260423T113526
CREATED:20180203T021737Z
LAST-MODIFIED:20180203T021737Z
UID:5051-1519754400-1519761600@spectrumtowncenter.com
SUMMARY:Food Truck: Say Cheese
DESCRIPTION:
URL:https://spectrumtowncenter.com/event/food-truck-say-cheese-2/
LOCATION:Paramount East Parking Lot\, 230 Spectrum Avenue\, Gaithersburg\, MD\, 20879
GEO:39.1605952;-77.2223224
X-APPLE-STRUCTURED-LOCATION;VALUE=URI;X-ADDRESS=Paramount East Parking Lot 230 Spectrum Avenue Gaithersburg MD 20879;X-APPLE-RADIUS=500;X-TITLE=230 Spectrum Avenue:geo:-77.2223224,39.1605952
END:VEVENT
BEGIN:VEVENT
DTSTART;TZID=UTC:20180217T170000
DTEND;TZID=UTC:20180217T200000
DTSTAMP:20260423T113526
CREATED:20180203T021659Z
LAST-MODIFIED:20180203T021659Z
UID:5045-1518886800-1518897600@spectrumtowncenter.com
SUMMARY:Food Truck: Honey Bee's
DESCRIPTION:
URL:https://spectrumtowncenter.com/event/food-truck-honey-bees/
LOCATION:Paramount East Parking Lot\, 230 Spectrum Avenue\, Gaithersburg\, MD\, 20879
GEO:39.1605952;-77.2223224
X-APPLE-STRUCTURED-LOCATION;VALUE=URI;X-ADDRESS=Paramount East Parking Lot 230 Spectrum Avenue Gaithersburg MD 20879;X-APPLE-RADIUS=500;X-TITLE=230 Spectrum Avenue:geo:-77.2223224,39.1605952
END:VEVENT
BEGIN:VEVENT
DTSTART;TZID=UTC:20180213T170000
DTEND;TZID=UTC:20180213T200000
DTSTAMP:20260423T113526
CREATED:20180203T021435Z
LAST-MODIFIED:20180203T021510Z
UID:5044-1518541200-1518552000@spectrumtowncenter.com
SUMMARY:Food Truck: Fat Pete's Barbecue
DESCRIPTION:
URL:https://spectrumtowncenter.com/event/food-truck-fat-petes-barbecue/
LOCATION:Paramount East Parking Lot\, 230 Spectrum Avenue\, Gaithersburg\, MD\, 20879
GEO:39.1605952;-77.2223224
X-APPLE-STRUCTURED-LOCATION;VALUE=URI;X-ADDRESS=Paramount East Parking Lot 230 Spectrum Avenue Gaithersburg MD 20879;X-APPLE-RADIUS=500;X-TITLE=230 Spectrum Avenue:geo:-77.2223224,39.1605952
END:VEVENT
BEGIN:VEVENT
DTSTART;TZID=UTC:20171105T170000
DTEND;TZID=UTC:20171105T200000
DTSTAMP:20260423T113526
CREATED:20171122T195753Z
LAST-MODIFIED:20180203T014322Z
UID:4851-1509901200-1509912000@spectrumtowncenter.com
SUMMARY:Food Truck: Say Cheese
DESCRIPTION:
URL:https://spectrumtowncenter.com/event/food-truck-say-cheese/
LOCATION:Paramount East Parking Lot\, 230 Spectrum Avenue\, Gaithersburg\, MD\, 20879
GEO:39.1605952;-77.2223224
X-APPLE-STRUCTURED-LOCATION;VALUE=URI;X-ADDRESS=Paramount East Parking Lot 230 Spectrum Avenue Gaithersburg MD 20879;X-APPLE-RADIUS=500;X-TITLE=230 Spectrum Avenue:geo:-77.2223224,39.1605952
END:VEVENT
END:VCALENDAR