BEGIN:VCALENDAR
VERSION:2.0
PRODID:-//Spectrum Town Center - ECPv6.15.20//NONSGML v1.0//EN
CALSCALE:GREGORIAN
METHOD:PUBLISH
X-ORIGINAL-URL:https://spectrumtowncenter.com
X-WR-CALDESC:Events for Spectrum Town Center
REFRESH-INTERVAL;VALUE=DURATION:PT1H
X-Robots-Tag:noindex
X-PUBLISHED-TTL:PT1H
BEGIN:VTIMEZONE
TZID:UTC
BEGIN:STANDARD
TZOFFSETFROM:+0000
TZOFFSETTO:+0000
TZNAME:UTC
DTSTART:20180101T000000
END:STANDARD
END:VTIMEZONE
BEGIN:VEVENT
DTSTART;TZID=UTC:20190522T073000
DTEND;TZID=UTC:20190522T090000
DTSTAMP:20260423T122630
CREATED:20190513T230307Z
LAST-MODIFIED:20190513T234819Z
UID:7233-1558510200-1558515600@spectrumtowncenter.com
SUMMARY:Breakfast To-Go
DESCRIPTION:Treat yourself to a breakfast to-go at the Paramount West Lobby hosted by Spectrum \n*Residents only
URL:https://spectrumtowncenter.com/event/breakfast-to-go/
LOCATION:Paramount West Lobby\, 231 Spectrum Ave\, Gaithersburg\, MD\, 20879\, United States
END:VEVENT
END:VCALENDAR