BEGIN:VCALENDAR
VERSION:2.0
PRODID:-//Spectrum Town Center - ECPv6.15.20//NONSGML v1.0//EN
CALSCALE:GREGORIAN
METHOD:PUBLISH
X-WR-CALNAME:Spectrum Town Center
X-ORIGINAL-URL:https://spectrumtowncenter.com
X-WR-CALDESC:Events for Spectrum Town Center
REFRESH-INTERVAL;VALUE=DURATION:PT1H
X-Robots-Tag:noindex
X-PUBLISHED-TTL:PT1H
BEGIN:VTIMEZONE
TZID:UTC
BEGIN:STANDARD
TZOFFSETFROM:+0000
TZOFFSETTO:+0000
TZNAME:UTC
DTSTART:20160101T000000
END:STANDARD
END:VTIMEZONE
BEGIN:VEVENT
DTSTART;TZID=UTC:20190211T173000
DTEND;TZID=UTC:20190211T190000
DTSTAMP:20260423T094811
CREATED:20190206T014857Z
LAST-MODIFIED:20190206T014857Z
UID:6946-1549906200-1549911600@spectrumtowncenter.com
SUMMARY:Cookie Decorating
DESCRIPTION:Show us some love while we decorate treats and sip on wine Valentine’s Day style! No sweet tooth? Still stop by for a chance to win an Amazon gift card! \n\n*Residents Only
URL:https://spectrumtowncenter.com/event/cookie-decorating/
LOCATION:Paramount West Clubroom\, 231 Spectrum Ave.\, Gaithersburg\, Maryland\, 20879
END:VEVENT
BEGIN:VEVENT
DTSTART;TZID=UTC:20181003T180000
DTEND;TZID=UTC:20181003T200000
DTSTAMP:20260423T094811
CREATED:20180926T225203Z
LAST-MODIFIED:20180926T225203Z
UID:6661-1538589600-1538596800@spectrumtowncenter.com
SUMMARY:Wine Down Wednesday
DESCRIPTION:Drinks and Hors d’Oeuvres will be provided! \n\n\n\n\n**Residents only \n 
URL:https://spectrumtowncenter.com/event/wine-down-wednesday/
LOCATION:Paramount West Clubroom\, 231 Spectrum Ave.\, Gaithersburg\, Maryland\, 20879
END:VEVENT
BEGIN:VEVENT
DTSTART;TZID=UTC:20171118T180000
DTEND;TZID=UTC:20171118T210000
DTSTAMP:20260423T094811
CREATED:20171117T040218Z
LAST-MODIFIED:20171117T040218Z
UID:4084-1511028000-1511038800@spectrumtowncenter.com
SUMMARY:Friendsgiving
DESCRIPTION:For Community Residents
URL:https://spectrumtowncenter.com/event/friendsgiving/
LOCATION:Paramount West Clubroom\, 231 Spectrum Ave.\, Gaithersburg\, Maryland\, 20879
END:VEVENT
END:VCALENDAR