BEGIN:VCALENDAR
VERSION:2.0
PRODID:-//Spectrum Town Center - ECPv6.15.20//NONSGML v1.0//EN
CALSCALE:GREGORIAN
METHOD:PUBLISH
X-WR-CALNAME:Spectrum Town Center
X-ORIGINAL-URL:https://spectrumtowncenter.com
X-WR-CALDESC:Events for Spectrum Town Center
REFRESH-INTERVAL;VALUE=DURATION:PT1H
X-Robots-Tag:noindex
X-PUBLISHED-TTL:PT1H
BEGIN:VTIMEZONE
TZID:America/New_York
BEGIN:DAYLIGHT
TZOFFSETFROM:-0500
TZOFFSETTO:-0400
TZNAME:EDT
DTSTART:20200308T070000
END:DAYLIGHT
BEGIN:STANDARD
TZOFFSETFROM:-0400
TZOFFSETTO:-0500
TZNAME:EST
DTSTART:20201101T060000
END:STANDARD
BEGIN:DAYLIGHT
TZOFFSETFROM:-0500
TZOFFSETTO:-0400
TZNAME:EDT
DTSTART:20210314T070000
END:DAYLIGHT
BEGIN:STANDARD
TZOFFSETFROM:-0400
TZOFFSETTO:-0500
TZNAME:EST
DTSTART:20211107T060000
END:STANDARD
BEGIN:DAYLIGHT
TZOFFSETFROM:-0500
TZOFFSETTO:-0400
TZNAME:EDT
DTSTART:20220313T070000
END:DAYLIGHT
BEGIN:STANDARD
TZOFFSETFROM:-0400
TZOFFSETTO:-0500
TZNAME:EST
DTSTART:20221106T060000
END:STANDARD
BEGIN:DAYLIGHT
TZOFFSETFROM:-0500
TZOFFSETTO:-0400
TZNAME:EDT
DTSTART:20230312T070000
END:DAYLIGHT
BEGIN:STANDARD
TZOFFSETFROM:-0400
TZOFFSETTO:-0500
TZNAME:EST
DTSTART:20231105T060000
END:STANDARD
BEGIN:DAYLIGHT
TZOFFSETFROM:-0500
TZOFFSETTO:-0400
TZNAME:EDT
DTSTART:20240310T070000
END:DAYLIGHT
BEGIN:STANDARD
TZOFFSETFROM:-0400
TZOFFSETTO:-0500
TZNAME:EST
DTSTART:20241103T060000
END:STANDARD
BEGIN:DAYLIGHT
TZOFFSETFROM:-0500
TZOFFSETTO:-0400
TZNAME:EDT
DTSTART:20250309T070000
END:DAYLIGHT
BEGIN:STANDARD
TZOFFSETFROM:-0400
TZOFFSETTO:-0500
TZNAME:EST
DTSTART:20251102T060000
END:STANDARD
BEGIN:DAYLIGHT
TZOFFSETFROM:-0500
TZOFFSETTO:-0400
TZNAME:EDT
DTSTART:20260308T070000
END:DAYLIGHT
BEGIN:STANDARD
TZOFFSETFROM:-0400
TZOFFSETTO:-0500
TZNAME:EST
DTSTART:20261101T060000
END:STANDARD
END:VTIMEZONE
BEGIN:VTIMEZONE
TZID:UTC
BEGIN:STANDARD
TZOFFSETFROM:+0000
TZOFFSETTO:+0000
TZNAME:UTC
DTSTART:20170101T000000
END:STANDARD
END:VTIMEZONE
BEGIN:VEVENT
DTSTART;TZID=America/New_York:20250524T180000
DTEND;TZID=America/New_York:20250524T210000
DTSTAMP:20260423T054316
CREATED:20211019T200731Z
LAST-MODIFIED:20250522T185656Z
UID:7499-1748109600-1748120400@spectrumtowncenter.com
SUMMARY:Acoustic of Most Genres: Simba
DESCRIPTION:Join the fun w/ good music and delicious food + drinks today from 6pm-9pm at Performers Park!
URL:https://spectrumtowncenter.com/event/blues-folk-country-rock-classic-pete-henry-2/
LOCATION:Performers Park\, 239 Spectrum Ave.\, Gaithersburg\, Maryland\, 20879
GEO:39.1601137;-77.2224343
X-APPLE-STRUCTURED-LOCATION;VALUE=URI;X-ADDRESS=Performers Park 239 Spectrum Ave. Gaithersburg Maryland 20879;X-APPLE-RADIUS=500;X-TITLE=239 Spectrum Ave.:geo:-77.2224343,39.1601137
END:VEVENT
BEGIN:VEVENT
DTSTART;TZID=America/New_York:20211030T180000
DTEND;TZID=America/New_York:20211030T210000
DTSTAMP:20260423T054316
CREATED:20211019T200624Z
LAST-MODIFIED:20211019T200624Z
UID:7497-1635616800-1635627600@spectrumtowncenter.com
SUMMARY:Blues / Folk / Country Rock / Classic: Pete Henry
DESCRIPTION:Join the fun w/ good music and delicious food + drinks every Friday and Saturday from 6PM to 9PM at the Performers Park!
URL:https://spectrumtowncenter.com/event/blues-folk-country-rock-classic-pete-henry/
LOCATION:Performers Park\, 239 Spectrum Ave.\, Gaithersburg\, Maryland\, 20879
GEO:39.1601137;-77.2224343
X-APPLE-STRUCTURED-LOCATION;VALUE=URI;X-ADDRESS=Performers Park 239 Spectrum Ave. Gaithersburg Maryland 20879;X-APPLE-RADIUS=500;X-TITLE=239 Spectrum Ave.:geo:-77.2224343,39.1601137
END:VEVENT
BEGIN:VEVENT
DTSTART;TZID=America/New_York:20211029T180000
DTEND;TZID=America/New_York:20211029T210000
DTSTAMP:20260423T054316
CREATED:20211019T200548Z
LAST-MODIFIED:20211019T200548Z
UID:7495-1635530400-1635541200@spectrumtowncenter.com
SUMMARY:Contemporary Pop / Classic Rock / Country / R&B: Joseph R. Monasterial
DESCRIPTION:Join the fun w/ good music and delicious food + drinks every Friday and Saturday from 6PM to 9PM at the Performers Park!
URL:https://spectrumtowncenter.com/event/contemporary-pop-classic-rock-country-rb-joseph-r-monasterial-2/
LOCATION:Performers Park\, 239 Spectrum Ave.\, Gaithersburg\, Maryland\, 20879
GEO:39.1601137;-77.2224343
X-APPLE-STRUCTURED-LOCATION;VALUE=URI;X-ADDRESS=Performers Park 239 Spectrum Ave. Gaithersburg Maryland 20879;X-APPLE-RADIUS=500;X-TITLE=239 Spectrum Ave.:geo:-77.2224343,39.1601137
END:VEVENT
BEGIN:VEVENT
DTSTART;TZID=America/New_York:20211023T180000
DTEND;TZID=America/New_York:20211023T210000
DTSTAMP:20260423T054316
CREATED:20211019T195958Z
LAST-MODIFIED:20211019T195958Z
UID:7491-1635012000-1635022800@spectrumtowncenter.com
SUMMARY:Latin: Sol Y Rumba
DESCRIPTION:Join the fun w/ good music and delicious food + drinks every Friday and Saturday from 6PM to 9PM at the Performers Park!
URL:https://spectrumtowncenter.com/event/latin-sol-y-rumba-2/
LOCATION:Performers Park\, 239 Spectrum Ave.\, Gaithersburg\, Maryland\, 20879
GEO:39.1601137;-77.2224343
X-APPLE-STRUCTURED-LOCATION;VALUE=URI;X-ADDRESS=Performers Park 239 Spectrum Ave. Gaithersburg Maryland 20879;X-APPLE-RADIUS=500;X-TITLE=239 Spectrum Ave.:geo:-77.2224343,39.1601137
END:VEVENT
BEGIN:VEVENT
DTSTART;TZID=America/New_York:20211022T180000
DTEND;TZID=America/New_York:20211022T210000
DTSTAMP:20260423T054316
CREATED:20211019T195845Z
LAST-MODIFIED:20211019T195845Z
UID:7489-1634925600-1634936400@spectrumtowncenter.com
SUMMARY:Contemporary Pop / Classic Rock / Country / R&B: Joseph R. Monasterial
DESCRIPTION:Join the fun w/ good music and delicious food + drinks every Friday and Saturday from 6PM to 9PM at the Performers Park!
URL:https://spectrumtowncenter.com/event/contemporary-pop-classic-rock-country-rb-joseph-r-monasterial/
LOCATION:Performers Park\, 239 Spectrum Ave.\, Gaithersburg\, Maryland\, 20879
GEO:39.1601137;-77.2224343
X-APPLE-STRUCTURED-LOCATION;VALUE=URI;X-ADDRESS=Performers Park 239 Spectrum Ave. Gaithersburg Maryland 20879;X-APPLE-RADIUS=500;X-TITLE=239 Spectrum Ave.:geo:-77.2224343,39.1601137
END:VEVENT
BEGIN:VEVENT
DTSTART;TZID=UTC:20200801T180000
DTEND;TZID=UTC:20200801T210000
DTSTAMP:20260423T054316
CREATED:20200723T231019Z
LAST-MODIFIED:20200723T231019Z
UID:7440-1596304800-1596315600@spectrumtowncenter.com
SUMMARY:Covers / Contemporary: Joseph Monasterial
DESCRIPTION:Live Music @ Performers Park
URL:https://spectrumtowncenter.com/event/covers-contemporary-joseph-monasterial/
LOCATION:Performers Park\, 239 Spectrum Ave.\, Gaithersburg\, Maryland\, 20879
GEO:39.1601137;-77.2224343
X-APPLE-STRUCTURED-LOCATION;VALUE=URI;X-ADDRESS=Performers Park 239 Spectrum Ave. Gaithersburg Maryland 20879;X-APPLE-RADIUS=500;X-TITLE=239 Spectrum Ave.:geo:-77.2224343,39.1601137
END:VEVENT
BEGIN:VEVENT
DTSTART;TZID=UTC:20200725T180000
DTEND;TZID=UTC:20200725T210000
DTSTAMP:20260423T054316
CREATED:20200723T230836Z
LAST-MODIFIED:20200723T231029Z
UID:7438-1595700000-1595710800@spectrumtowncenter.com
SUMMARY:Rock / Alternative Rock: That-A-Way
DESCRIPTION:Live Music @ Performers Park
URL:https://spectrumtowncenter.com/event/rock-alternative-rock-that-a-way/
LOCATION:Performers Park\, 239 Spectrum Ave.\, Gaithersburg\, Maryland\, 20879
GEO:39.1601137;-77.2224343
X-APPLE-STRUCTURED-LOCATION;VALUE=URI;X-ADDRESS=Performers Park 239 Spectrum Ave. Gaithersburg Maryland 20879;X-APPLE-RADIUS=500;X-TITLE=239 Spectrum Ave.:geo:-77.2224343,39.1601137
END:VEVENT
BEGIN:VEVENT
DTSTART;TZID=UTC:20190928T180000
DTEND;TZID=UTC:20190928T210000
DTSTAMP:20260423T054316
CREATED:20190910T185632Z
LAST-MODIFIED:20190910T185632Z
UID:7336-1569693600-1569704400@spectrumtowncenter.com
SUMMARY:Alternative Rock/Electronic: That-A-Way
DESCRIPTION:Summer Concert Series
URL:https://spectrumtowncenter.com/event/alternative-rock-electronic-that-a-way/
LOCATION:Performers Park\, 239 Spectrum Ave.\, Gaithersburg\, Maryland\, 20879
GEO:39.1601137;-77.2224343
X-APPLE-STRUCTURED-LOCATION;VALUE=URI;X-ADDRESS=Performers Park 239 Spectrum Ave. Gaithersburg Maryland 20879;X-APPLE-RADIUS=500;X-TITLE=239 Spectrum Ave.:geo:-77.2224343,39.1601137
END:VEVENT
BEGIN:VEVENT
DTSTART;TZID=UTC:20190927T180000
DTEND;TZID=UTC:20190927T210000
DTSTAMP:20260423T054316
CREATED:20190910T185532Z
LAST-MODIFIED:20190910T185532Z
UID:7334-1569607200-1569618000@spectrumtowncenter.com
SUMMARY:Acoustic: Kentlands Acoustic
DESCRIPTION:Summer Concert Series
URL:https://spectrumtowncenter.com/event/acoustic-kentlands-acoustic/
LOCATION:Performers Park\, 239 Spectrum Ave.\, Gaithersburg\, Maryland\, 20879
GEO:39.1601137;-77.2224343
X-APPLE-STRUCTURED-LOCATION;VALUE=URI;X-ADDRESS=Performers Park 239 Spectrum Ave. Gaithersburg Maryland 20879;X-APPLE-RADIUS=500;X-TITLE=239 Spectrum Ave.:geo:-77.2224343,39.1601137
END:VEVENT
BEGIN:VEVENT
DTSTART;TZID=UTC:20190921T180000
DTEND;TZID=UTC:20190921T210000
DTSTAMP:20260423T054316
CREATED:20190910T185419Z
LAST-MODIFIED:20190910T185419Z
UID:7332-1569088800-1569099600@spectrumtowncenter.com
SUMMARY:Rock/Funk: Rickshaw Lizard
DESCRIPTION:Summer Concert Series
URL:https://spectrumtowncenter.com/event/rock-funk-rickshaw-lizard-2/
LOCATION:Performers Park\, 239 Spectrum Ave.\, Gaithersburg\, Maryland\, 20879
GEO:39.1601137;-77.2224343
X-APPLE-STRUCTURED-LOCATION;VALUE=URI;X-ADDRESS=Performers Park 239 Spectrum Ave. Gaithersburg Maryland 20879;X-APPLE-RADIUS=500;X-TITLE=239 Spectrum Ave.:geo:-77.2224343,39.1601137
END:VEVENT
BEGIN:VEVENT
DTSTART;TZID=UTC:20190920T180000
DTEND;TZID=UTC:20190920T210000
DTSTAMP:20260423T054316
CREATED:20190910T185938Z
LAST-MODIFIED:20190910T185938Z
UID:7340-1569002400-1569013200@spectrumtowncenter.com
SUMMARY:Summer Concert Series
DESCRIPTION:Experience free live band performance at Performers Park!
URL:https://spectrumtowncenter.com/event/summer-concert-series-2/
LOCATION:Performers Park\, 239 Spectrum Ave.\, Gaithersburg\, Maryland\, 20879
GEO:39.1601137;-77.2224343
X-APPLE-STRUCTURED-LOCATION;VALUE=URI;X-ADDRESS=Performers Park 239 Spectrum Ave. Gaithersburg Maryland 20879;X-APPLE-RADIUS=500;X-TITLE=239 Spectrum Ave.:geo:-77.2224343,39.1601137
END:VEVENT
BEGIN:VEVENT
DTSTART;TZID=UTC:20190919T190000
DTEND;TZID=UTC:20190919T190000
DTSTAMP:20260423T054316
CREATED:20190904T205201Z
LAST-MODIFIED:20190904T205201Z
UID:7326-1568919600-1568919600@spectrumtowncenter.com
SUMMARY:HIIT Fitness Class
DESCRIPTION:Tawfeeq will be hosting a HIIT Fitness Class at Performers Park. Classes are free for all Spectrum Residents. We recommend that you bring a towel + water and arrive 5-15 minutes early. We hope to see you there! \n*Residents Only
URL:https://spectrumtowncenter.com/event/hiit-fitness-class-2/
LOCATION:Performers Park\, 239 Spectrum Ave.\, Gaithersburg\, Maryland\, 20879
GEO:39.1601137;-77.2224343
X-APPLE-STRUCTURED-LOCATION;VALUE=URI;X-ADDRESS=Performers Park 239 Spectrum Ave. Gaithersburg Maryland 20879;X-APPLE-RADIUS=500;X-TITLE=239 Spectrum Ave.:geo:-77.2224343,39.1601137
END:VEVENT
BEGIN:VEVENT
DTSTART;TZID=UTC:20190914T180000
DTEND;TZID=UTC:20190914T210000
DTSTAMP:20260423T054316
CREATED:20190910T184821Z
LAST-MODIFIED:20190910T184821Z
UID:7330-1568484000-1568494800@spectrumtowncenter.com
SUMMARY:Funk/Soul: Ben Somerville
DESCRIPTION:Summer Concert Series
URL:https://spectrumtowncenter.com/event/funk-soul-ben-somerville/
LOCATION:Performers Park\, 239 Spectrum Ave.\, Gaithersburg\, Maryland\, 20879
GEO:39.1601137;-77.2224343
X-APPLE-STRUCTURED-LOCATION;VALUE=URI;X-ADDRESS=Performers Park 239 Spectrum Ave. Gaithersburg Maryland 20879;X-APPLE-RADIUS=500;X-TITLE=239 Spectrum Ave.:geo:-77.2224343,39.1601137
END:VEVENT
BEGIN:VEVENT
DTSTART;TZID=UTC:20190910T190000
DTEND;TZID=UTC:20190910T190000
DTSTAMP:20260423T054316
CREATED:20190904T204711Z
LAST-MODIFIED:20190904T205115Z
UID:7321-1568142000-1568142000@spectrumtowncenter.com
SUMMARY:HIIT Fitness Class
DESCRIPTION:Tawfeeq will be hosting a HIIT Fitness Class at Performers Park. Classes are free for all Spectrum Residents. We recommend that you bring a towel + water and arrive 5-15 minutes early. We hope to see you there! \n*Residents Only
URL:https://spectrumtowncenter.com/event/hiit-fitness-class/
LOCATION:Performers Park\, 239 Spectrum Ave.\, Gaithersburg\, Maryland\, 20879
GEO:39.1601137;-77.2224343
X-APPLE-STRUCTURED-LOCATION;VALUE=URI;X-ADDRESS=Performers Park 239 Spectrum Ave. Gaithersburg Maryland 20879;X-APPLE-RADIUS=500;X-TITLE=239 Spectrum Ave.:geo:-77.2224343,39.1601137
END:VEVENT
BEGIN:VEVENT
DTSTART;TZID=UTC:20190907T140000
DTEND;TZID=UTC:20190907T140000
DTSTAMP:20260423T054316
CREATED:20190904T210004Z
LAST-MODIFIED:20190904T210004Z
UID:7328-1567864800-1567864800@spectrumtowncenter.com
SUMMARY:Zumba
DESCRIPTION:Roderick + friends will be hosting a free Zumba Fitness Dance Class for all Spectrum Residents and their guests. \n*We recommend proper athletic wear\, a towel and a water bottle for the class. We recommend that you consult with your physician before participating in any exercise program.
URL:https://spectrumtowncenter.com/event/zumba-5/
LOCATION:Performers Park\, 239 Spectrum Ave.\, Gaithersburg\, Maryland\, 20879
GEO:39.1601137;-77.2224343
X-APPLE-STRUCTURED-LOCATION;VALUE=URI;X-ADDRESS=Performers Park 239 Spectrum Ave. Gaithersburg Maryland 20879;X-APPLE-RADIUS=500;X-TITLE=239 Spectrum Ave.:geo:-77.2224343,39.1601137
END:VEVENT
BEGIN:VEVENT
DTSTART;TZID=UTC:20181013T110000
DTEND;TZID=UTC:20181013T150000
DTSTAMP:20260423T054316
CREATED:20180926T224807Z
LAST-MODIFIED:20180926T224807Z
UID:6658-1539428400-1539442800@spectrumtowncenter.com
SUMMARY:Fall Fest
DESCRIPTION:Join us for Fall Fest at Performers Park! There will be food\, drinks\, glam make-over\, jewelries\, shoe sale\, fitness demos\, art\, games\, raffle prizes\, goodie bags\, music\, and more! \n  \nVendors:\nArt Gallery | Born Primative | Barking Mad Cafe | Chair Massages | Cyro Place | Evolution Spine and Wellness | Germantown’s Best BootCamp | Jo’s Comfort Zone | Karen’s Rocks and Rags | One Glance | Paramount + Majestic Apartments | Smooch! Studio
URL:https://spectrumtowncenter.com/event/fall-fest/
LOCATION:Performers Park\, 239 Spectrum Ave.\, Gaithersburg\, Maryland\, 20879
GEO:39.1601137;-77.2224343
X-APPLE-STRUCTURED-LOCATION;VALUE=URI;X-ADDRESS=Performers Park 239 Spectrum Ave. Gaithersburg Maryland 20879;X-APPLE-RADIUS=500;X-TITLE=239 Spectrum Ave.:geo:-77.2224343,39.1601137
END:VEVENT
BEGIN:VEVENT
DTSTART;TZID=UTC:20181006T180000
DTEND;TZID=UTC:20181006T210000
DTSTAMP:20260423T054316
CREATED:20180829T230948Z
LAST-MODIFIED:20180829T230948Z
UID:6592-1538848800-1538859600@spectrumtowncenter.com
SUMMARY:Acoustic/Contemporary: Joseph Monasterial
DESCRIPTION:Last day of Summer Concert Series
URL:https://spectrumtowncenter.com/event/acoustic-contemporary-joseph-monasterial/
LOCATION:Performers Park\, 239 Spectrum Ave.\, Gaithersburg\, Maryland\, 20879
GEO:39.1601137;-77.2224343
X-APPLE-STRUCTURED-LOCATION;VALUE=URI;X-ADDRESS=Performers Park 239 Spectrum Ave. Gaithersburg Maryland 20879;X-APPLE-RADIUS=500;X-TITLE=239 Spectrum Ave.:geo:-77.2224343,39.1601137
END:VEVENT
BEGIN:VEVENT
DTSTART;TZID=UTC:20181005T180000
DTEND;TZID=UTC:20181005T210000
DTSTAMP:20260423T054316
CREATED:20180927T232414Z
LAST-MODIFIED:20180927T232434Z
UID:6664-1538762400-1538773200@spectrumtowncenter.com
SUMMARY:Funk/Soul Contemporary: Erin + Caleb Hill
DESCRIPTION:Summer Concert Series
URL:https://spectrumtowncenter.com/event/funk-soul-contemporary/
LOCATION:Performers Park\, 239 Spectrum Ave.\, Gaithersburg\, Maryland\, 20879
GEO:39.1601137;-77.2224343
X-APPLE-STRUCTURED-LOCATION;VALUE=URI;X-ADDRESS=Performers Park 239 Spectrum Ave. Gaithersburg Maryland 20879;X-APPLE-RADIUS=500;X-TITLE=239 Spectrum Ave.:geo:-77.2224343,39.1601137
END:VEVENT
BEGIN:VEVENT
DTSTART;TZID=UTC:20180928T180000
DTEND;TZID=UTC:20180928T210000
DTSTAMP:20260423T054316
CREATED:20180829T230423Z
LAST-MODIFIED:20180829T230423Z
UID:6589-1538157600-1538168400@spectrumtowncenter.com
SUMMARY:Blues: Bad Influence
DESCRIPTION:Summer Concert Series
URL:https://spectrumtowncenter.com/event/blues-bad-influence/
LOCATION:Performers Park\, 239 Spectrum Ave.\, Gaithersburg\, Maryland\, 20879
GEO:39.1601137;-77.2224343
X-APPLE-STRUCTURED-LOCATION;VALUE=URI;X-ADDRESS=Performers Park 239 Spectrum Ave. Gaithersburg Maryland 20879;X-APPLE-RADIUS=500;X-TITLE=239 Spectrum Ave.:geo:-77.2224343,39.1601137
END:VEVENT
BEGIN:VEVENT
DTSTART;TZID=UTC:20180922T180000
DTEND;TZID=UTC:20180922T210000
DTSTAMP:20260423T054316
CREATED:20180829T230309Z
LAST-MODIFIED:20180829T230309Z
UID:6587-1537639200-1537650000@spectrumtowncenter.com
SUMMARY:Rock/Funk: Rickshaw Lizard
DESCRIPTION:Summer Concert Series
URL:https://spectrumtowncenter.com/event/rock-funk-rickshaw-lizard/
LOCATION:Performers Park\, 239 Spectrum Ave.\, Gaithersburg\, Maryland\, 20879
GEO:39.1601137;-77.2224343
X-APPLE-STRUCTURED-LOCATION;VALUE=URI;X-ADDRESS=Performers Park 239 Spectrum Ave. Gaithersburg Maryland 20879;X-APPLE-RADIUS=500;X-TITLE=239 Spectrum Ave.:geo:-77.2224343,39.1601137
END:VEVENT
BEGIN:VEVENT
DTSTART;TZID=UTC:20180922T143000
DTEND;TZID=UTC:20180922T153000
DTSTAMP:20260423T054316
CREATED:20180906T000452Z
LAST-MODIFIED:20180906T000452Z
UID:6628-1537626600-1537630200@spectrumtowncenter.com
SUMMARY:Zumba
DESCRIPTION:Zumba w/ Rod Williams \nResidents only
URL:https://spectrumtowncenter.com/event/zumba-3/
LOCATION:Performers Park\, 239 Spectrum Ave.\, Gaithersburg\, Maryland\, 20879
GEO:39.1601137;-77.2224343
X-APPLE-STRUCTURED-LOCATION;VALUE=URI;X-ADDRESS=Performers Park 239 Spectrum Ave. Gaithersburg Maryland 20879;X-APPLE-RADIUS=500;X-TITLE=239 Spectrum Ave.:geo:-77.2224343,39.1601137
END:VEVENT
BEGIN:VEVENT
DTSTART;TZID=UTC:20180921T180000
DTEND;TZID=UTC:20180921T210000
DTSTAMP:20260423T054316
CREATED:20180829T230217Z
LAST-MODIFIED:20180829T230217Z
UID:6585-1537552800-1537563600@spectrumtowncenter.com
SUMMARY:Roots: Two Tong Twing
DESCRIPTION:Summer Concert Series
URL:https://spectrumtowncenter.com/event/roots-two-tong-twing/
LOCATION:Performers Park\, 239 Spectrum Ave.\, Gaithersburg\, Maryland\, 20879
GEO:39.1601137;-77.2224343
X-APPLE-STRUCTURED-LOCATION;VALUE=URI;X-ADDRESS=Performers Park 239 Spectrum Ave. Gaithersburg Maryland 20879;X-APPLE-RADIUS=500;X-TITLE=239 Spectrum Ave.:geo:-77.2224343,39.1601137
END:VEVENT
BEGIN:VEVENT
DTSTART;TZID=UTC:20180915T180000
DTEND;TZID=UTC:20180915T210000
DTSTAMP:20260423T054316
CREATED:20180829T225856Z
LAST-MODIFIED:20180829T225856Z
UID:6583-1537034400-1537045200@spectrumtowncenter.com
SUMMARY:Latin: Grupo Cuatro
DESCRIPTION:Summer Concert Series
URL:https://spectrumtowncenter.com/event/latin-grupo-cuatro-2/
LOCATION:Performers Park\, 239 Spectrum Ave.\, Gaithersburg\, Maryland\, 20879
GEO:39.1601137;-77.2224343
X-APPLE-STRUCTURED-LOCATION;VALUE=URI;X-ADDRESS=Performers Park 239 Spectrum Ave. Gaithersburg Maryland 20879;X-APPLE-RADIUS=500;X-TITLE=239 Spectrum Ave.:geo:-77.2224343,39.1601137
END:VEVENT
BEGIN:VEVENT
DTSTART;TZID=UTC:20180915T143000
DTEND;TZID=UTC:20180915T153000
DTSTAMP:20260423T054316
CREATED:20180905T231757Z
LAST-MODIFIED:20180905T231757Z
UID:6626-1537021800-1537025400@spectrumtowncenter.com
SUMMARY:Zumba
DESCRIPTION:Zumba w/ Rod Williams \nResidents only
URL:https://spectrumtowncenter.com/event/zumba-2/
LOCATION:Performers Park\, 239 Spectrum Ave.\, Gaithersburg\, Maryland\, 20879
GEO:39.1601137;-77.2224343
X-APPLE-STRUCTURED-LOCATION;VALUE=URI;X-ADDRESS=Performers Park 239 Spectrum Ave. Gaithersburg Maryland 20879;X-APPLE-RADIUS=500;X-TITLE=239 Spectrum Ave.:geo:-77.2224343,39.1601137
END:VEVENT
BEGIN:VEVENT
DTSTART;TZID=UTC:20180914T180000
DTEND;TZID=UTC:20180914T210000
DTSTAMP:20260423T054316
CREATED:20180829T225702Z
LAST-MODIFIED:20180829T225702Z
UID:6581-1536948000-1536958800@spectrumtowncenter.com
SUMMARY:Roots/Blues: Cobb Brothers
DESCRIPTION:Summer Concert Series
URL:https://spectrumtowncenter.com/event/roots-blues-cobb-brothers/
LOCATION:Performers Park\, 239 Spectrum Ave.\, Gaithersburg\, Maryland\, 20879
GEO:39.1601137;-77.2224343
X-APPLE-STRUCTURED-LOCATION;VALUE=URI;X-ADDRESS=Performers Park 239 Spectrum Ave. Gaithersburg Maryland 20879;X-APPLE-RADIUS=500;X-TITLE=239 Spectrum Ave.:geo:-77.2224343,39.1601137
END:VEVENT
BEGIN:VEVENT
DTSTART;TZID=UTC:20180908T023000
DTEND;TZID=UTC:20180908T033000
DTSTAMP:20260423T054316
CREATED:20180905T231640Z
LAST-MODIFIED:20180905T231640Z
UID:6624-1536373800-1536377400@spectrumtowncenter.com
SUMMARY:Zumba
DESCRIPTION:Zumba w/ Rod Williams \nResidents only
URL:https://spectrumtowncenter.com/event/zumba/
LOCATION:Performers Park\, 239 Spectrum Ave.\, Gaithersburg\, Maryland\, 20879
GEO:39.1601137;-77.2224343
X-APPLE-STRUCTURED-LOCATION;VALUE=URI;X-ADDRESS=Performers Park 239 Spectrum Ave. Gaithersburg Maryland 20879;X-APPLE-RADIUS=500;X-TITLE=239 Spectrum Ave.:geo:-77.2224343,39.1601137
END:VEVENT
BEGIN:VEVENT
DTSTART;TZID=UTC:20180907T180000
DTEND;TZID=UTC:20180907T210000
DTSTAMP:20260423T054316
CREATED:20180829T225601Z
LAST-MODIFIED:20180829T225601Z
UID:6579-1536343200-1536354000@spectrumtowncenter.com
SUMMARY:Latin: Sol y Rumba
DESCRIPTION:Summer Concert Series
URL:https://spectrumtowncenter.com/event/latin-sol-y-rumba/
LOCATION:Performers Park\, 239 Spectrum Ave.\, Gaithersburg\, Maryland\, 20879
GEO:39.1601137;-77.2224343
X-APPLE-STRUCTURED-LOCATION;VALUE=URI;X-ADDRESS=Performers Park 239 Spectrum Ave. Gaithersburg Maryland 20879;X-APPLE-RADIUS=500;X-TITLE=239 Spectrum Ave.:geo:-77.2224343,39.1601137
END:VEVENT
BEGIN:VEVENT
DTSTART;TZID=UTC:20180901T180000
DTEND;TZID=UTC:20180901T210000
DTSTAMP:20260423T054316
CREATED:20180829T225431Z
LAST-MODIFIED:20180829T225431Z
UID:6577-1535824800-1535835600@spectrumtowncenter.com
SUMMARY:Pop/Contemporary: Mike Houser
DESCRIPTION:Summer Concert Series
URL:https://spectrumtowncenter.com/event/pop-contemporary-mike-houser/
LOCATION:Performers Park\, 239 Spectrum Ave.\, Gaithersburg\, Maryland\, 20879
GEO:39.1601137;-77.2224343
X-APPLE-STRUCTURED-LOCATION;VALUE=URI;X-ADDRESS=Performers Park 239 Spectrum Ave. Gaithersburg Maryland 20879;X-APPLE-RADIUS=500;X-TITLE=239 Spectrum Ave.:geo:-77.2224343,39.1601137
END:VEVENT
BEGIN:VEVENT
DTSTART;TZID=UTC:20180825T180000
DTEND;TZID=UTC:20180825T210000
DTSTAMP:20260423T054316
CREATED:20180808T231742Z
LAST-MODIFIED:20180808T231742Z
UID:6551-1535220000-1535230800@spectrumtowncenter.com
SUMMARY:Latin Rock: Sonic Castaways
DESCRIPTION:Summer Concert Series
URL:https://spectrumtowncenter.com/event/latin-rock-sonic-castaways/
LOCATION:Performers Park\, 239 Spectrum Ave.\, Gaithersburg\, Maryland\, 20879
GEO:39.1601137;-77.2224343
X-APPLE-STRUCTURED-LOCATION;VALUE=URI;X-ADDRESS=Performers Park 239 Spectrum Ave. Gaithersburg Maryland 20879;X-APPLE-RADIUS=500;X-TITLE=239 Spectrum Ave.:geo:-77.2224343,39.1601137
END:VEVENT
BEGIN:VEVENT
DTSTART;TZID=UTC:20180824T180000
DTEND;TZID=UTC:20180824T210000
DTSTAMP:20260423T054316
CREATED:20180808T231519Z
LAST-MODIFIED:20180808T231533Z
UID:6549-1535133600-1535144400@spectrumtowncenter.com
SUMMARY:Jazz: Ben Somerville
DESCRIPTION:Summer Concert Series
URL:https://spectrumtowncenter.com/event/jazz-ben-somerville/
LOCATION:Performers Park\, 239 Spectrum Ave.\, Gaithersburg\, Maryland\, 20879
GEO:39.1601137;-77.2224343
X-APPLE-STRUCTURED-LOCATION;VALUE=URI;X-ADDRESS=Performers Park 239 Spectrum Ave. Gaithersburg Maryland 20879;X-APPLE-RADIUS=500;X-TITLE=239 Spectrum Ave.:geo:-77.2224343,39.1601137
END:VEVENT
END:VCALENDAR